Package: ATACseqQC Version: 1.32.0 Command: /Library/Frameworks/R.framework/Resources/bin/R CMD INSTALL ATACseqQC StartedAt: 2025-05-12 17:57:08 -0400 (Mon, 12 May 2025) EndedAt: 2025-05-12 17:58:14 -0400 (Mon, 12 May 2025) EllapsedTime: 65.4 seconds RetCode: 0 Status: OK