Package: ATACseqQC Version: 1.32.0 Command: /Library/Frameworks/R.framework/Resources/bin/R CMD check --install=check:ATACseqQC.install-out.txt --library=/Library/Frameworks/R.framework/Resources/library --no-vignettes --timings ATACseqQC_1.32.0.tar.gz StartedAt: 2025-05-13 11:55:50 -0400 (Tue, 13 May 2025) EndedAt: 2025-05-13 12:08:26 -0400 (Tue, 13 May 2025) EllapsedTime: 755.7 seconds RetCode: 0 Status: OK CheckDir: ATACseqQC.Rcheck Warnings: 0