Package: ATACCoGAPS Version: 1.8.0 Command: /home/biocbuild/R/R/bin/R CMD INSTALL ATACCoGAPS StartedAt: 2025-01-30 20:55:45 -0000 (Thu, 30 Jan 2025) EndedAt: 2025-01-30 20:56:52 -0000 (Thu, 30 Jan 2025) EllapsedTime: 66.8 seconds RetCode: 0 Status: OK