Package: ASURAT Version: 1.12.0 Command: chmod a+r ASURAT -R && E:\biocbuild\bbs-3.21-bioc\R\bin\R.exe CMD build --keep-empty-dirs --no-resave-data ASURAT StartedAt: 2025-08-14 17:24:27 -0400 (Thu, 14 Aug 2025) EndedAt: 2025-08-14 17:40:40 -0400 (Thu, 14 Aug 2025) EllapsedTime: 972.6 seconds RetCode: 0 Status: OK PackageFile: ASURAT_1.12.0.tar.gz PackageFileSize: 1.16 MiB