Package: ASURAT Version: 1.12.0 Maintainer: Keita Iida MaintainerEmail: kiida at protein.osaka-u.ac.jp git_url: https://git.bioconductor.org/packages/ASURAT git_branch: RELEASE_3_21 git_last_commit: d0c624a git_last_commit_date: 2025-04-15 12:48:03 -0400 (Tue, 15 Apr 2025)