Package: ASSIGN Version: 1.44.0 Command: rm -rf ASSIGN.buildbin-libdir && mkdir ASSIGN.buildbin-libdir && /Users/biocbuild/BBS/utils/build-universal.sh ASSIGN_1.44.0.tar.gz /Library/Frameworks/R.framework/Resources/bin/R ASSIGN.buildbin-libdir StartedAt: 2025-04-22 00:33:43 -0400 (Tue, 22 Apr 2025) EndedAt: 2025-04-22 00:33:50 -0400 (Tue, 22 Apr 2025) EllapsedTime: 7.0 seconds RetCode: 0 Status: OK PackageFile: ASSIGN_1.44.0.tgz PackageFileSize: 1.669 MiB