Package: ASSET Version: 2.26.0 Command: /Library/Frameworks/R.framework/Resources/bin/R CMD check --install=check:ASSET.install-out.txt --library=/Library/Frameworks/R.framework/Resources/library --no-vignettes --timings ASSET_2.26.0.tar.gz StartedAt: 2025-04-21 19:06:41 -0400 (Mon, 21 Apr 2025) EndedAt: 2025-04-21 19:08:52 -0400 (Mon, 21 Apr 2025) EllapsedTime: 131.1 seconds RetCode: 0 Status: OK CheckDir: ASSET.Rcheck Warnings: 0