Package: ASSET Version: 2.26.0 Command: rm -rf ASSET.buildbin-libdir && mkdir ASSET.buildbin-libdir && /Users/biocbuild/BBS/utils/build-universal.sh ASSET_2.26.0.tar.gz /Library/Frameworks/R.framework/Resources/bin/R ASSET.buildbin-libdir StartedAt: 2025-10-15 17:26:25 -0400 (Wed, 15 Oct 2025) EndedAt: 2025-10-15 17:26:36 -0400 (Wed, 15 Oct 2025) EllapsedTime: 11.4 seconds RetCode: 0 Status: OK PackageFile: ASSET_2.26.0.tgz PackageFileSize: 475 KiB