Package: ASICS Version: 2.22.0 Command: /home/biocbuild/R/R/bin/R CMD check --install=check:ASICS.install-out.txt --library=/home/biocbuild/R/R/site-library --no-vignettes --timings ASICS_2.22.0.tar.gz StartedAt: 2025-01-31 03:53:41 -0000 (Fri, 31 Jan 2025) EndedAt: 2025-01-31 04:09:19 -0000 (Fri, 31 Jan 2025) EllapsedTime: 937.4 seconds RetCode: 0 Status: WARNINGS CheckDir: ASICS.Rcheck Warnings: 1