Package: ASGSCA Version: 1.42.0 Command: /Library/Frameworks/R.framework/Resources/bin/R CMD INSTALL ASGSCA StartedAt: 2025-04-21 15:05:42 -0400 (Mon, 21 Apr 2025) EndedAt: 2025-04-21 15:06:09 -0400 (Mon, 21 Apr 2025) EllapsedTime: 27.0 seconds RetCode: 0 Status: OK