Package: ASGSCA Version: 1.42.0 Command: /Library/Frameworks/R.framework/Resources/bin/R CMD check --install=check:ASGSCA.install-out.txt --library=/Library/Frameworks/R.framework/Resources/library --no-vignettes --timings ASGSCA_1.42.0.tar.gz StartedAt: 2025-04-21 19:06:10 -0400 (Mon, 21 Apr 2025) EndedAt: 2025-04-21 19:09:35 -0400 (Mon, 21 Apr 2025) EllapsedTime: 204.8 seconds RetCode: 0 Status: OK CheckDir: ASGSCA.Rcheck Warnings: 0