Package: ASGSCA Version: 1.42.0 Command: /home/biocbuild/R/R/bin/R CMD INSTALL ASGSCA StartedAt: 2025-05-05 20:15:41 -0000 (Mon, 05 May 2025) EndedAt: 2025-05-05 20:15:47 -0000 (Mon, 05 May 2025) EllapsedTime: 5.9 seconds RetCode: 0 Status: OK