Package: APL Version: 1.10.2 Command: /home/biocbuild/R/R/bin/R CMD check --install=check:APL.install-out.txt --library=/home/biocbuild/R/R/site-library --no-vignettes --timings APL_1.10.2.tar.gz StartedAt: 2025-01-31 03:51:50 -0000 (Fri, 31 Jan 2025) EndedAt: 2025-01-31 03:57:41 -0000 (Fri, 31 Jan 2025) EllapsedTime: 350.7 seconds RetCode: 0 Status: OK CheckDir: APL.Rcheck Warnings: 0