Package: APL Version: 1.12.0 Command: chmod a+r APL -R && E:\biocbuild\bbs-3.21-bioc\R\bin\R.exe CMD build --keep-empty-dirs --no-resave-data APL StartedAt: 2025-08-14 17:22:35 -0400 (Thu, 14 Aug 2025) EndedAt: 2025-08-14 17:27:18 -0400 (Thu, 14 Aug 2025) EllapsedTime: 283.3 seconds RetCode: 0 Status: OK PackageFile: APL_1.12.0.tar.gz PackageFileSize: 1.167 MiB