Package: APL Version: 1.12.0 Command: rm -rf APL.buildbin-libdir && mkdir APL.buildbin-libdir && E:\biocbuild\bbs-3.21-bioc\R\bin\R.exe CMD INSTALL --build --library=APL.buildbin-libdir APL_1.12.0.tar.gz StartedAt: 2025-08-15 08:46:25 -0400 (Fri, 15 Aug 2025) EndedAt: 2025-08-15 08:47:26 -0400 (Fri, 15 Aug 2025) EllapsedTime: 61.5 seconds RetCode: 0 Status: OK PackageFile: APL_1.12.0.zip PackageFileSize: 1.592 MiB