Package: APAlyzer Version: 1.20.0 Command: /home/biocbuild/R/R/bin/R CMD check --install=check:APAlyzer.install-out.txt --library=/home/biocbuild/R/R/site-library --no-vignettes --timings APAlyzer_1.20.0.tar.gz StartedAt: 2025-01-28 04:37:38 -0000 (Tue, 28 Jan 2025) EndedAt: 2025-01-28 05:15:46 -0000 (Tue, 28 Jan 2025) EllapsedTime: 2288.3 seconds RetCode: 1 Status: ERROR CheckDir: APAlyzer.Rcheck Warnings: NA