Package: ANCOMBC Version: 2.10.0 Maintainer: Huang Lin MaintainerEmail: huanglinfrederick at gmail.com git_url: https://git.bioconductor.org/packages/ANCOMBC git_branch: RELEASE_3_21 git_last_commit: e799029 git_last_commit_date: 2025-04-15 12:08:13 -0400 (Tue, 15 Apr 2025)