Package: AMARETTO Version: 1.22.0 Command: chmod a+r AMARETTO -R && F:\biocbuild\bbs-3.20-bioc\R\bin\R.exe CMD build --keep-empty-dirs --no-resave-data AMARETTO StartedAt: 2025-02-03 17:27:54 -0500 (Mon, 03 Feb 2025) EndedAt: 2025-02-03 17:29:24 -0500 (Mon, 03 Feb 2025) EllapsedTime: 89.6 seconds RetCode: 1 Status: ERROR PackageFile: None PackageFileSize: NA