Package: AMARETTO Version: 1.22.0 Command: /Library/Frameworks/R.framework/Resources/bin/R CMD INSTALL AMARETTO StartedAt: 2025-02-03 16:16:16 -0500 (Mon, 03 Feb 2025) EndedAt: 2025-02-03 16:17:29 -0500 (Mon, 03 Feb 2025) EllapsedTime: 73.7 seconds RetCode: 0 Status: OK