Package: AMARETTO Version: 1.22.0 Command: /Library/Frameworks/R.framework/Resources/bin/R CMD check --install=check:AMARETTO.install-out.txt --library=/Library/Frameworks/R.framework/Resources/library --no-vignettes --timings AMARETTO_1.22.0.tar.gz StartedAt: 2025-02-03 23:36:42 -0500 (Mon, 03 Feb 2025) EndedAt: 2025-02-03 23:46:53 -0500 (Mon, 03 Feb 2025) EllapsedTime: 610.3 seconds RetCode: 0 Status: WARNINGS CheckDir: AMARETTO.Rcheck Warnings: 1