Package: AMARETTO Version: 1.22.0 Command: /Library/Frameworks/R.framework/Resources/bin/R CMD check --install=check:AMARETTO.install-out.txt --library=/Library/Frameworks/R.framework/Resources/library --no-vignettes --timings AMARETTO_1.22.0.tar.gz StartedAt: 2025-02-04 11:09:39 -0500 (Tue, 04 Feb 2025) EndedAt: 2025-02-04 11:14:51 -0500 (Tue, 04 Feb 2025) EllapsedTime: 311.7 seconds RetCode: 0 Status: WARNINGS CheckDir: AMARETTO.Rcheck Warnings: 1