Package: ALDEx2 Version: 1.40.0 Command: /Library/Frameworks/R.framework/Resources/bin/R CMD build --keep-empty-dirs --no-resave-data ALDEx2 StartedAt: 2025-04-21 15:55:18 -0400 (Mon, 21 Apr 2025) EndedAt: 2025-04-21 15:57:18 -0400 (Mon, 21 Apr 2025) EllapsedTime: 120.2 seconds RetCode: 0 Status: OK PackageFile: ALDEx2_1.40.0.tar.gz PackageFileSize: 3.093 MiB