Package: ALDEx2 Version: 1.40.0 Command: /Library/Frameworks/R.framework/Resources/bin/R CMD check --install=check:ALDEx2.install-out.txt --library=/Library/Frameworks/R.framework/Resources/library --no-vignettes --timings ALDEx2_1.40.0.tar.gz StartedAt: 2025-05-09 11:25:00 -0400 (Fri, 09 May 2025) EndedAt: 2025-05-09 11:29:17 -0400 (Fri, 09 May 2025) EllapsedTime: 256.7 seconds RetCode: 0 Status: OK CheckDir: ALDEx2.Rcheck Warnings: 0