Package: AIMS Version: 1.38.0 Command: F:\biocbuild\bbs-3.20-bioc\R\bin\R.exe CMD INSTALL AIMS StartedAt: 2025-01-30 15:23:40 -0500 (Thu, 30 Jan 2025) EndedAt: 2025-01-30 15:23:48 -0500 (Thu, 30 Jan 2025) EllapsedTime: 7.9 seconds RetCode: 0 Status: OK