Package: AIMS Version: 1.38.0 Command: chmod a+r AIMS -R && F:\biocbuild\bbs-3.20-bioc\R\bin\R.exe CMD build --keep-empty-dirs --no-resave-data AIMS StartedAt: 2025-01-30 17:13:48 -0500 (Thu, 30 Jan 2025) EndedAt: 2025-01-30 17:14:15 -0500 (Thu, 30 Jan 2025) EllapsedTime: 26.9 seconds RetCode: 0 Status: OK PackageFile: AIMS_1.38.0.tar.gz PackageFileSize: 486 KiB