Package: AIMS Version: 1.38.0 Command: rm -rf AIMS.buildbin-libdir && mkdir AIMS.buildbin-libdir && F:\biocbuild\bbs-3.20-bioc\R\bin\R.exe CMD INSTALL --build --library=AIMS.buildbin-libdir AIMS_1.38.0.tar.gz StartedAt: 2025-01-31 08:06:59 -0500 (Fri, 31 Jan 2025) EndedAt: 2025-01-31 08:07:09 -0500 (Fri, 31 Jan 2025) EllapsedTime: 10.3 seconds RetCode: 0 Status: OK PackageFile: AIMS_1.38.0.zip PackageFileSize: 505.5 KiB