Package: AIMS Version: 1.40.0 Command: /Library/Frameworks/R.framework/Resources/bin/R CMD INSTALL AIMS StartedAt: 2025-05-01 15:19:52 -0400 (Thu, 01 May 2025) EndedAt: 2025-05-01 15:20:01 -0400 (Thu, 01 May 2025) EllapsedTime: 9.3 seconds RetCode: 0 Status: OK