Package: AHMassBank Version: 1.6.0 Command: /home/biocbuild/R/R/bin/R CMD check --install=check:AHMassBank.install-out.txt --library=/home/biocbuild/R/R/site-library --no-vignettes --timings AHMassBank_1.6.0.tar.gz StartedAt: 2025-01-31 03:43:52 -0000 (Fri, 31 Jan 2025) EndedAt: 2025-01-31 03:49:14 -0000 (Fri, 31 Jan 2025) EllapsedTime: 321.7 seconds RetCode: 0 Status: OK CheckDir: AHMassBank.Rcheck Warnings: 0