Package: AHMassBank Version: 1.8.0 Command: /home/biocbuild/R/R/bin/R CMD build --keep-empty-dirs --no-resave-data AHMassBank StartedAt: 2025-05-12 22:28:43 -0000 (Mon, 12 May 2025) EndedAt: 2025-05-12 22:29:59 -0000 (Mon, 12 May 2025) EllapsedTime: 76.0 seconds RetCode: 0 Status: OK PackageFile: AHMassBank_1.8.0.tar.gz PackageFileSize: 357.8 KiB