Package: AHMassBank Version: 1.8.0 Command: rm -rf AHMassBank.buildbin-libdir && mkdir AHMassBank.buildbin-libdir && /Users/biocbuild/BBS/utils/build-universal.sh AHMassBank_1.8.0.tar.gz /Library/Frameworks/R.framework/Resources/bin/R AHMassBank.buildbin-libdir StartedAt: 2025-05-17 14:20:56 -0400 (Sat, 17 May 2025) EndedAt: 2025-05-17 14:21:46 -0400 (Sat, 17 May 2025) EllapsedTime: 50.3 seconds RetCode: 0 Status: OK PackageFile: AHMassBank_1.8.0.tgz PackageFileSize: 300.1 KiB