Package: AHMassBank Version: 1.8.0 Maintainer: Johannes Rainer MaintainerEmail: Johannes.Rainer at eurac.edu git_url: https://git.bioconductor.org/packages/AHMassBank git_branch: RELEASE_3_21 git_last_commit: b53e23a git_last_commit_date: 2025-04-15 13:11:49 -0400 (Tue, 15 Apr 2025)