Package: ADaCGH2 Version: 2.46.0 Command: /home/biocbuild/R/R/bin/R CMD INSTALL ADaCGH2 StartedAt: 2025-01-30 20:54:22 -0000 (Thu, 30 Jan 2025) EndedAt: 2025-01-30 20:54:51 -0000 (Thu, 30 Jan 2025) EllapsedTime: 28.8 seconds RetCode: 0 Status: OK