Package: ADaCGH2 Version: 2.46.0 Command: /home/biocbuild/R/R/bin/R CMD check --install=check:ADaCGH2.install-out.txt --library=/home/biocbuild/R/R/site-library --no-vignettes --timings ADaCGH2_2.46.0.tar.gz StartedAt: 2025-01-31 03:41:40 -0000 (Fri, 31 Jan 2025) EndedAt: 2025-01-31 03:46:15 -0000 (Fri, 31 Jan 2025) EllapsedTime: 275.7 seconds RetCode: 0 Status: OK CheckDir: ADaCGH2.Rcheck Warnings: 0