Package: ADImpute Version: 1.18.0 Command: /home/biocbuild/R/R/bin/R CMD build --keep-empty-dirs --no-resave-data ADImpute StartedAt: 2025-05-08 22:32:34 -0000 (Thu, 08 May 2025) EndedAt: 2025-05-08 22:33:09 -0000 (Thu, 08 May 2025) EllapsedTime: 35.0 seconds RetCode: 0 Status: OK PackageFile: ADImpute_1.18.0.tar.gz PackageFileSize: 2.141 MiB