Package: ADAM Version: 1.22.0 Command: /home/biocbuild/R/R/bin/R CMD INSTALL ADAM StartedAt: 2025-02-03 20:52:58 -0000 (Mon, 03 Feb 2025) EndedAt: 2025-02-03 20:53:39 -0000 (Mon, 03 Feb 2025) EllapsedTime: 40.6 seconds RetCode: 0 Status: OK