Package: ADAM Version: 1.22.0 Command: /home/biocbuild/R/R/bin/R CMD build --keep-empty-dirs --no-resave-data ADAM StartedAt: 2025-02-03 21:31:54 -0000 (Mon, 03 Feb 2025) EndedAt: 2025-02-03 21:32:48 -0000 (Mon, 03 Feb 2025) EllapsedTime: 54.0 seconds RetCode: 0 Status: OK PackageFile: ADAM_1.22.0.tar.gz PackageFileSize: 376.2 KiB