Package: ADAM Version: 1.24.0 Maintainer: Jose Luiz Rybarczyk Filho MaintainerEmail: jose.luiz at unesp.br git_url: https://git.bioconductor.org/packages/ADAM git_branch: RELEASE_3_21 git_last_commit: 3ef81c3 git_last_commit_date: 2025-04-15 11:39:24 -0400 (Tue, 15 Apr 2025)