Package: ACME Version: 2.64.0 Maintainer: Sean Davis MaintainerEmail: sdavis2 at mail.nih.gov git_url: https://git.bioconductor.org/packages/ACME git_branch: RELEASE_3_21 git_last_commit: 24813b4 git_last_commit_date: 2025-04-15 09:40:05 -0400 (Tue, 15 Apr 2025)