Package: ACE Version: 1.26.0 Command: /Library/Frameworks/R.framework/Resources/bin/R CMD INSTALL ACE StartedAt: 2025-05-22 15:30:48 -0400 (Thu, 22 May 2025) EndedAt: 2025-05-22 15:31:29 -0400 (Thu, 22 May 2025) EllapsedTime: 41.8 seconds RetCode: 0 Status: OK