Package: ABarray Version: 1.76.0 Command: /home/biocbuild/bbs-3.21-bioc/R/bin/R CMD INSTALL ABarray StartedAt: 2025-10-01 15:16:34 -0400 (Wed, 01 Oct 2025) EndedAt: 2025-10-01 15:16:43 -0400 (Wed, 01 Oct 2025) EllapsedTime: 8.7 seconds RetCode: 0 Status: OK