Package: ABSSeq Version: 1.62.0 Command: chmod a+r ABSSeq -R && E:\biocbuild\bbs-3.21-bioc\R\bin\R.exe CMD build --keep-empty-dirs --no-resave-data ABSSeq StartedAt: 2025-08-14 17:15:51 -0400 (Thu, 14 Aug 2025) EndedAt: 2025-08-14 17:17:47 -0400 (Thu, 14 Aug 2025) EllapsedTime: 116.2 seconds RetCode: 0 Status: OK PackageFile: ABSSeq_1.62.0.tar.gz PackageFileSize: 994.6 KiB