Welcome to mirrors.dotsrc.org

All our mirrors of open source software are available via http, https, ftp and an onion service. More information about our mirrors including statistics and contact information is available on our mirror info pages.

For information about dotsrc.org and our other services please go to our website.

Index of /bioconductor/checkResults/release/bioc-LATEST/

File Name  ↓ File Size  ↓ Date  ↓ 
--
-2025-10-06 15:41:22
-2025-10-06 15:41:22
-2025-10-06 15:41:23
-2025-10-06 15:41:23
-2025-10-06 15:41:23
-2025-10-06 15:41:23
-2025-10-06 15:41:23
-2025-10-06 15:41:23
-2025-10-06 15:41:23
-2025-10-06 15:41:23
-2025-10-06 15:41:23
-2025-10-06 15:41:23
-2025-10-06 15:41:23
-2025-10-06 15:41:24
-2025-10-06 15:41:24
-2025-10-06 15:41:24
-2025-10-06 15:41:24
-2025-10-06 15:41:24
-2025-10-06 15:41:24
-2025-10-06 15:41:24
-2025-10-06 15:41:25
-2025-10-06 15:41:25
-2025-10-06 15:41:25
-2025-10-06 15:41:25
-2025-10-06 15:41:25
-2025-10-06 15:41:25
-2025-10-06 15:41:25
-2025-10-06 15:41:25
-2024-10-24 15:04:37
-2025-10-06 15:41:25
-2025-10-06 15:41:25
-2025-10-06 15:41:25
-2025-10-06 15:41:25
-2025-10-06 15:41:23
-2025-10-06 15:41:23
-2025-10-06 15:41:23
-2025-10-06 15:41:23
-2025-10-06 15:41:24
-2025-10-06 15:41:24
-2025-10-06 15:41:24
-2025-10-06 15:41:24
-2025-10-06 15:41:24
-2025-10-06 15:41:24
-2025-10-06 15:41:24
-2025-10-06 15:41:24
-2025-10-06 15:41:24
-2025-10-06 15:41:24
-2025-10-06 15:41:24
-2025-10-06 15:41:24
-2025-10-06 15:41:24
-2025-10-06 15:41:24
-2025-10-06 15:41:24
-2025-10-06 15:41:24
-2025-10-06 15:41:24
-2025-10-06 15:41:24
-2025-10-06 15:41:25
-2025-10-06 15:41:25
-2025-10-06 15:41:25
-2025-10-06 15:41:25
-2025-10-06 15:41:25
-2025-10-06 15:41:25
-2025-10-06 15:41:26
-2025-10-06 15:41:26
-2025-10-06 15:41:26
-2025-10-06 15:41:26
-2025-10-06 15:41:26
-2025-10-06 15:41:26
-2025-10-06 15:41:26
-2025-10-06 15:41:28
-2025-10-06 15:41:28
-2025-10-06 15:41:28
-2025-10-06 15:41:28
-2025-10-06 15:41:28
-2024-10-24 15:04:38
-2025-10-06 15:41:28
-2025-10-06 15:41:28
-2025-10-06 15:41:28
-2025-10-06 15:41:28
-2025-10-06 15:41:28
-2025-10-06 15:41:28
-2025-10-06 15:41:28
-2025-10-06 15:41:25
-2025-10-06 15:41:25
-2025-10-06 15:41:25
-2025-10-06 15:41:25
-2025-10-06 15:41:25
-2025-10-06 15:41:25
-2025-10-06 15:41:26
-2025-10-06 15:41:26
-2025-10-06 15:41:26
-2025-10-06 15:41:26
-2025-10-06 15:41:26
-2025-10-06 15:41:26
-2025-10-06 15:41:26
-2025-10-06 15:41:26
-2025-10-06 15:41:26
-2025-10-06 15:41:28
-2025-10-06 15:41:28
-2025-10-06 15:41:26
-2025-10-06 15:41:26
-2025-10-06 15:41:26
-2025-10-06 15:41:27
-2025-10-06 15:41:27
-2025-10-06 15:41:27
-2025-10-06 15:41:27
-2025-10-06 15:41:27
-2025-10-06 15:41:27
-2025-10-06 15:41:27
-2025-10-06 15:41:27
-2025-10-06 15:41:26
-2025-10-06 15:41:26
-2025-10-06 15:41:26
-2025-10-06 15:41:26
-2025-10-06 15:41:26
-2025-10-06 15:41:26
-2025-10-06 15:41:26
-2025-10-06 15:41:27
-2025-10-06 15:41:27
-2025-10-06 15:41:27
-2025-10-06 15:41:27
-2024-10-24 15:04:38
-2025-10-06 15:41:27
-2025-10-06 15:41:27
-2025-10-06 15:41:27
-2025-10-06 15:41:27
-2025-10-06 15:41:27
-2025-10-06 15:41:27
-2025-10-06 15:41:27
-2025-10-06 15:41:27
-2025-10-06 15:41:27
-2025-10-06 15:41:28
-2025-10-06 15:41:28
-2025-10-06 15:41:28
-2025-10-06 15:41:28
-2025-10-06 15:41:28
-2025-10-06 15:41:28
-2025-10-06 15:41:28
-2025-10-06 15:41:28
-2025-10-06 15:41:28
-2025-10-06 15:41:28
-2025-10-06 15:41:28
-2025-10-06 15:41:28
-2025-10-06 15:41:29
-2025-10-06 15:41:29
-2025-10-06 15:41:29
-2025-10-06 15:41:29
-2025-10-06 15:41:29
-2025-10-06 15:41:29
-2025-10-06 15:41:29
-2025-10-06 15:41:29
-2025-10-06 15:41:29
-2025-10-06 15:41:29
-2025-10-06 15:41:29
-2025-10-06 15:41:30
-2025-10-06 15:41:30
-2025-10-06 15:41:30
-2025-10-06 15:41:30
-2025-10-06 15:41:30
-2025-10-06 15:41:30
-2025-10-06 15:41:30
-2025-10-06 15:41:30
-2025-10-06 15:41:31
-2025-10-06 15:41:31
-2025-10-06 15:41:31
-2025-10-06 15:41:32
-2025-10-06 15:41:32
-2025-10-06 15:41:32
-2025-10-06 15:41:32
-2025-10-06 15:41:32
-2025-10-06 15:41:32
-2025-10-06 15:41:32
-2025-10-06 15:41:32
-2025-10-06 15:41:32
-2025-10-06 15:41:32
-2025-10-06 15:41:32
-2025-10-06 15:41:32
-2025-10-06 15:41:32
-2025-10-06 15:41:32
-2025-10-06 15:41:32
-2025-10-06 15:41:32
-2025-10-06 15:41:32
-2025-10-06 15:41:33
-2025-10-06 15:41:33
-2025-10-06 15:41:33
-2025-10-06 15:41:33
-2025-10-06 15:41:33
-2025-10-06 15:41:33
-2025-10-06 15:41:33
-2025-10-06 15:41:33
-2025-10-06 15:41:34
-2025-10-06 15:41:34
-2025-10-06 15:41:34
-2025-10-06 15:41:34
-2025-10-06 15:41:34
-2025-10-06 15:41:34
-2025-10-06 15:41:28
-2025-10-06 15:41:29
-2025-10-06 15:41:29
-2025-10-06 15:41:29
-2025-10-06 15:41:29
-2025-10-06 15:41:29
-2025-10-06 15:41:29
-2025-10-06 15:41:30
-2025-10-06 15:41:29
-2025-10-06 15:41:29
-2025-10-06 15:41:29
-2025-10-06 15:41:29
-2025-10-06 15:41:30
-2025-10-06 15:41:30
-2025-10-06 15:41:30
-2024-10-24 15:04:38
-2025-10-06 15:41:29
-2025-10-06 15:41:30
-2025-10-06 15:41:30
-2025-10-06 15:41:30
-2025-10-06 15:41:30
-2025-10-06 15:41:30
-2025-10-06 15:41:31
-2025-10-06 15:41:30
-2025-10-06 15:41:30
-2025-10-06 15:41:30
-2025-10-06 15:41:30
-2025-10-06 15:41:31
-2025-10-06 15:41:31
-2025-10-06 15:41:30
-2025-10-06 15:41:30
-2025-10-06 15:41:30
-2025-10-06 15:41:31
-2025-10-06 15:41:31
-2025-10-06 15:41:31
-2025-10-06 15:41:31
-2025-10-06 15:41:31
-2025-10-06 15:41:31
-2025-10-06 15:41:31
-2025-10-06 15:41:31
-2025-10-06 15:41:31
-2025-10-06 15:41:31
-2025-10-06 15:41:31
-2025-10-06 15:41:31
-2025-10-06 15:41:31
-2025-10-06 15:41:32
-2025-10-06 15:41:32
-2025-10-06 15:41:33
-2025-10-06 15:41:32
-2025-10-06 15:41:32
-2025-10-06 15:41:32
-2025-10-06 15:41:32
-2025-10-06 15:41:33
-2025-10-06 15:41:33
-2025-10-06 15:41:33
-2025-10-06 15:41:33
-2025-10-06 15:41:33
-2025-10-06 15:41:33
-2025-10-06 15:41:34
-2025-10-06 15:41:34
-2025-10-06 15:41:34
-2025-10-06 15:41:34
-2025-10-06 15:41:34
-2025-10-06 15:41:34
-2025-10-06 15:41:34
-2025-10-06 15:41:34
-2025-10-06 15:41:35
-2025-10-06 15:41:35
-2025-10-06 15:41:35
-2025-10-06 15:41:35
-2025-10-06 15:41:35
-2025-10-06 15:41:35
-2025-10-06 15:41:35
-2025-10-06 15:41:35
-2025-10-06 15:41:35
-2025-10-06 15:41:36
-2025-10-06 15:41:36
-2025-10-06 15:41:36
-2025-10-06 15:41:36
-2025-10-06 15:41:36
-2025-10-06 15:41:36
-2025-10-06 15:41:36
-2025-10-06 15:41:36
-2025-10-06 15:41:36
-2025-10-06 15:41:36
-2025-10-06 15:41:36
-2025-10-06 15:41:36
-2025-10-06 15:41:36
-2025-10-06 15:41:36
-2025-10-06 15:41:37
-2025-10-06 15:41:37
-2025-10-06 15:41:37
-2025-10-06 15:41:37
-2025-10-06 15:41:37
-2025-10-06 15:41:37
-2025-10-06 15:41:37
-2025-10-06 15:41:37
-2025-10-06 15:41:37
-2025-10-06 15:41:37
-2025-10-06 15:41:37
-2025-10-06 15:41:37
-2025-10-06 15:41:37
-2025-10-06 15:41:37
-2025-10-06 15:41:37
-2025-10-06 15:41:35
-2025-10-06 15:41:35
-2025-10-06 15:41:36
-2025-10-06 15:41:36
-2025-10-06 15:41:36
-2025-10-06 15:41:35
-2025-10-06 15:41:35
-2025-10-06 15:41:35
-2025-10-06 15:41:35
-2025-10-06 15:41:35
-2025-10-06 15:41:35
-2025-10-06 15:41:35
-2025-10-06 15:41:35
-2025-10-06 15:41:35
-2025-10-06 15:41:35
-2025-10-06 15:41:35
-2025-10-06 15:41:36
-2025-10-06 15:41:36
-2025-10-06 15:41:36
-2025-10-06 15:41:36
-2025-10-06 15:41:36
-2025-10-06 15:41:36
-2025-10-06 15:41:37
-2025-10-06 15:41:37
-2025-10-06 15:41:37
-2025-10-06 15:41:37
-2025-10-06 15:41:37
-2025-10-06 15:41:37
-2025-10-06 15:41:37
-2025-10-06 15:41:37
-2025-10-06 15:41:37
-2025-10-06 15:41:37
-2025-10-06 15:41:38
-2025-10-06 15:41:38
-2025-10-06 15:41:38
-2025-10-06 15:41:38
-2025-10-06 15:41:38
-2025-10-06 15:41:38
-2025-10-06 15:41:38
-2025-10-06 15:41:38
-2025-10-06 15:41:38
-2025-10-06 15:41:38
-2025-10-06 15:41:38
-2025-10-06 15:41:38
-2025-10-06 15:41:38
-2025-10-06 15:41:38
-2025-10-06 15:41:39
-2025-10-06 15:41:39
-2025-10-06 15:41:38
-2025-10-06 15:41:38
-2025-10-06 15:41:38
-2025-10-06 15:41:38
-2025-10-06 15:41:38
-2025-10-06 15:41:38
-2025-10-06 15:41:38
-2025-10-06 15:41:38
-2025-10-06 15:41:39
-2025-10-06 15:41:39
-2025-10-06 15:41:39
-2025-10-06 15:41:39
-2025-10-06 15:41:39
-2025-10-06 15:41:39
-2025-10-06 15:41:39
-2025-10-06 15:41:39
-2025-10-06 15:41:39
-2025-10-06 15:41:39
-2025-10-06 15:41:39
-2025-10-06 15:41:39
-2025-10-06 15:41:40
-2025-10-06 15:41:40
-2025-10-06 15:41:40
-2025-10-06 15:41:40
-2025-10-06 15:41:40
-2025-10-06 15:41:41
-2025-10-06 15:41:41
-2025-10-06 15:41:40
-2025-10-06 15:41:40
-2025-10-06 15:41:40
-2025-10-06 15:41:40
-2025-10-06 15:41:40
-2025-10-06 15:41:40
-2025-10-06 15:41:41
-2025-10-06 15:41:41
-2025-10-06 15:41:41
-2025-10-06 15:41:41
-2025-10-06 15:41:41
-2025-10-06 15:41:41
-2025-10-06 15:41:41
-2025-10-06 15:41:41
-2025-10-06 15:41:41
-2025-10-06 15:41:42
-2025-10-06 15:41:42
-2025-10-06 15:41:42
-2025-10-06 15:41:42
-2025-10-06 15:41:43
-2025-10-06 15:41:43
-2025-10-06 15:41:43
-2025-10-06 15:41:43
-2025-10-06 15:41:43
-2025-10-06 15:41:43
-2025-10-06 15:41:43
-2025-10-06 15:41:44
-2025-10-06 15:41:44
-2025-10-06 15:41:44
-2025-10-06 15:41:44
-2025-10-06 15:41:44
-2025-10-06 15:41:44
-2025-10-06 15:41:44
-2025-10-06 15:41:44
-2025-10-06 15:41:44
-2025-10-06 15:41:44
-2025-10-06 15:41:44
-2025-10-06 15:41:44
-2025-10-06 15:41:45
-2025-10-06 15:41:45
-2025-10-06 15:41:45
-2025-10-06 15:41:45
-2025-10-06 15:41:45
-2025-10-06 15:41:45
-2025-10-06 15:41:45
-2025-10-06 15:41:45
-2025-10-06 15:41:45
-2025-10-06 15:41:45
-2025-10-06 15:41:45
-2025-10-06 15:41:45
-2025-10-06 15:41:45
-2025-10-06 15:41:45
-2025-10-06 15:41:45
-2025-10-06 15:41:45
-2025-10-06 15:41:45
-2025-10-06 15:41:45
-2025-10-06 15:41:41
-2025-10-06 15:41:42
-2025-10-06 15:41:43
-2025-10-06 15:41:43
-2025-10-06 15:41:42
-2025-10-06 15:41:42
-2025-10-06 15:41:42
-2025-10-06 15:36:55
-2025-10-06 15:41:42
-2025-10-06 15:41:42
-2025-10-06 15:41:42
-2025-10-06 15:41:42
-2025-10-06 15:41:42
-2025-10-06 15:41:42
-2025-10-06 15:41:42
-2025-10-06 15:41:42
-2025-10-06 15:41:42
-2025-10-06 15:41:42
-2025-10-06 15:41:43
-2025-10-06 15:41:43
-2025-10-06 15:41:43
-2025-10-06 15:41:43
-2025-10-06 15:41:43
-2025-10-06 15:41:43
-2025-10-06 15:41:43
-2025-10-06 15:41:43
-2025-10-06 15:41:43
-2025-10-06 15:41:43
-2025-10-06 15:41:43
-2025-10-06 15:41:43
-2025-10-06 15:41:43
-2025-10-06 15:41:43
-2025-10-06 15:41:43
-2025-10-06 15:41:43
-2025-10-06 15:41:44
-2025-10-06 15:41:44
-2025-10-06 15:41:44
-2025-10-06 15:41:44
-2025-10-06 15:41:44
-2025-10-06 15:41:44
-2025-10-06 15:41:45
-2025-10-06 15:41:45
-2025-10-06 15:41:45
-2025-10-06 15:41:45
-2025-10-06 15:41:45
-2025-10-06 15:41:45
-2025-10-06 15:41:46
-2025-10-06 15:41:46
-2025-10-06 15:41:46
-2025-10-06 15:41:46
-2025-10-06 15:41:46
-2025-10-06 15:41:46
-2025-10-06 15:41:46
-2025-10-06 15:41:46
-2025-10-06 15:41:46
-2025-10-06 15:41:47
-2025-10-06 15:41:47
-2025-10-06 15:41:47
-2025-10-06 15:41:47
-2025-10-06 15:41:47
-2025-10-06 15:41:47
-2025-10-06 15:41:46
-2025-10-06 15:41:46
-2025-10-06 15:41:46
-2025-10-06 15:41:46
-2025-10-06 15:41:46
-2025-10-06 15:41:46
-2025-10-06 15:41:46
-2025-10-06 15:41:46
-2025-10-06 15:41:46
-2025-10-06 15:41:46
-2025-10-06 15:41:46
-2025-10-06 15:41:46
-2025-10-06 15:41:46
-2025-10-06 15:41:46
-2025-10-06 15:41:46
-2025-10-06 15:41:47
-2025-10-06 15:41:46
-2025-10-06 15:41:46
-2025-10-06 15:41:46
-2025-10-06 15:41:46
-2025-10-06 15:41:47
-2025-10-06 15:41:47
-2025-10-06 15:41:47
-2025-10-06 15:41:47
-2025-10-06 15:41:47
-2025-10-06 15:41:47
-2025-10-06 15:41:48
-2025-10-06 15:41:48
-2025-10-06 15:41:48
-2025-10-06 15:41:48
-2025-10-06 15:41:48
-2025-10-06 15:41:48
-2025-10-06 15:41:48
-2025-10-06 15:41:48
-2025-10-06 15:41:48
-2025-10-06 15:41:48
-2025-10-06 15:41:49
-2025-10-06 15:41:49
-2025-10-06 15:41:49
-2025-10-06 15:41:49
-2025-10-06 15:41:49
-2025-10-06 15:41:49
-2025-10-06 15:41:49
-2025-10-06 15:41:49
-2025-10-06 15:41:47
-2025-10-06 15:41:47
-2025-10-06 15:41:48
-2025-10-06 15:41:48
-2025-10-06 15:41:48
-2025-10-06 15:41:48
-2025-10-06 15:41:48
-2025-10-06 15:41:48
-2025-10-06 15:41:48
-2025-10-06 15:41:48
-2025-10-06 15:41:48
-2025-10-06 15:41:49
-2025-10-06 15:41:49
-2025-10-06 15:41:49
-2025-10-06 15:41:49
-2025-10-06 15:41:49
-2025-10-06 15:41:49
-2025-10-06 15:41:50
-2025-10-06 15:41:49
-2025-10-06 15:41:50
-2025-10-06 15:41:50
-2025-10-06 15:41:50
-2025-10-06 15:41:50
-2025-10-06 15:41:50
-2025-10-06 15:41:50
-2025-10-06 15:41:50
-2025-10-06 15:41:51
-2025-10-06 15:41:51
-2025-10-06 15:41:51
-2025-10-06 15:41:51
-2025-10-06 15:41:50
-2025-10-06 15:41:50
-2025-10-06 15:41:50
-2025-10-06 15:41:50
-2025-10-06 15:41:50
-2025-10-06 15:41:50
-2025-10-06 15:41:50
-2025-10-06 15:41:51
-2025-10-06 15:41:51
-2025-10-06 15:41:51
-2025-10-06 15:41:51
-2025-10-06 15:41:51
-2025-10-06 15:41:51
-2025-10-06 15:41:51
-2025-10-06 15:41:51
-2025-10-06 15:41:51
-2025-10-06 15:41:51
-2025-10-06 15:41:51
-2025-10-06 15:41:51
-2025-10-06 15:41:51
-2025-10-06 15:41:52
-2025-10-06 15:41:52
-2025-10-06 15:41:52
-2025-10-06 15:41:52
-2025-10-06 15:41:52
-2025-10-06 15:41:52
-2025-10-06 15:41:52
-2025-10-06 15:41:52
-2025-10-06 15:41:52
-2025-10-06 15:41:52
-2025-10-06 15:41:52
-2025-10-06 15:41:52
-2025-10-06 15:41:52
-2025-10-06 15:41:52
-2025-10-06 15:41:52
-2025-10-06 15:41:54
-2025-10-06 15:41:54
-2025-10-06 15:41:54
-2025-10-06 15:41:54
-2025-10-06 15:41:55
-2025-10-06 15:41:55
-2025-10-06 15:41:55
-2025-10-06 15:41:55
-2025-10-06 15:41:55
-2025-10-06 15:41:55
-2025-10-06 15:41:55
-2025-10-06 15:41:56
-2025-10-06 15:41:56
-2025-10-06 15:41:56
-2025-10-06 15:41:56
-2025-10-06 15:41:56
-2025-10-06 15:41:56
-2025-10-06 15:41:56
-2025-10-06 15:41:56
-2025-10-06 15:41:56
-2024-10-24 15:04:41
-2025-10-06 15:41:56
-2025-10-06 15:41:57
-2025-10-06 15:41:57
-2025-10-06 15:41:57
-2025-10-06 15:41:57
-2025-10-06 15:41:57
-2025-10-06 15:41:57
-2025-10-06 15:41:57
-2025-10-06 15:41:57
-2025-10-06 15:41:57
-2025-10-06 15:41:57
-2025-10-06 15:41:57
-2025-10-06 15:41:57
-2025-10-06 15:41:57
-2025-10-06 15:41:57
-2025-10-06 15:41:58
-2025-10-06 15:41:58
-2025-10-06 15:41:51
-2025-10-06 15:41:51
-2025-10-06 15:41:51
-2025-10-06 15:41:52
-2025-10-06 15:41:52
-2025-10-06 15:41:52
-2025-10-06 15:41:52
-2025-10-06 15:41:52
-2025-10-06 15:41:53
-2025-10-06 15:41:52
-2025-10-06 15:41:53
-2025-10-06 15:41:53
-2025-10-06 15:41:53
-2025-10-06 15:41:53
-2025-10-06 15:41:54
-2025-10-06 15:41:54
-2025-10-06 15:41:54
-2025-10-06 15:41:53
-2025-10-06 15:41:53
-2025-10-06 15:41:53
-2025-10-06 15:41:53
-2025-10-06 15:41:53
-2025-10-06 15:41:53
-2025-10-06 15:41:53
-2025-10-06 15:41:53
-2025-10-06 15:41:53
-2025-10-06 15:41:53
-2025-10-06 15:41:53
-2025-10-06 15:41:54
-2025-10-06 15:41:54
-2025-10-06 15:41:54
-2025-10-06 15:41:54
-2025-10-06 15:41:55
-2025-10-06 15:41:55
-2025-10-06 15:41:54
-2025-10-06 15:41:54
-2025-10-06 15:41:55
-2025-10-06 15:41:55
-2025-10-06 15:41:56
-2025-10-06 15:41:56
-2025-10-06 15:41:56
-2025-10-06 15:41:56
-2025-10-06 15:41:56
-2025-10-06 15:41:56
-2025-10-06 15:41:56
-2025-10-06 15:41:56
-2025-10-06 15:41:56
-2025-10-06 15:41:56
-2025-10-06 15:41:56
-2025-10-06 15:41:56
-2025-10-06 15:41:56
-2025-10-06 15:41:56
-2025-10-06 15:41:57
-2025-10-06 15:41:57
-2025-10-06 15:41:57
-2025-10-06 15:41:57
-2025-10-06 15:41:57
-2025-10-06 15:41:57
-2025-10-06 15:41:57
-2025-10-06 15:41:57
-2025-10-06 15:41:57
-2025-10-06 15:41:57
-2025-10-06 15:41:58
-2025-10-06 15:41:58
-2025-10-06 15:41:58
-2025-10-06 15:41:58
-2025-10-06 15:41:58
-2025-10-06 15:41:58
-2025-10-06 15:41:58
-2025-10-06 15:41:58
-2025-10-06 15:41:58
-2025-10-06 15:41:59
-2025-10-06 15:41:59
-2025-10-06 15:41:59
-2025-10-06 15:41:58
-2025-10-06 15:41:58
-2025-10-06 15:41:58
-2025-10-06 15:41:58
-2025-10-06 15:41:59
-2025-10-06 15:41:59
-2025-10-06 15:41:59
-2025-10-06 15:41:59
-2025-10-06 15:41:59
-2025-10-06 15:41:59
-2025-10-06 15:41:59
-2025-10-06 15:41:59
-2025-10-06 15:41:59
-2025-10-06 15:41:59
-2025-10-06 15:41:59
-2025-10-06 15:41:59
-2025-10-06 15:42:00
-2025-10-06 15:42:00
-2025-10-06 15:42:00
-2025-10-06 15:42:00
-2025-10-06 15:42:00
-2025-10-06 15:42:00
-2025-10-06 15:42:01
-2025-10-06 15:42:01
-2025-10-06 15:42:01
-2025-10-06 15:42:01
-2025-10-06 15:42:01
-2025-10-06 15:42:00
-2025-10-06 15:42:00
-2025-10-06 15:42:00
-2025-10-06 15:42:00
-2025-10-06 15:42:00
-2025-10-06 15:42:00
-2025-10-06 15:42:00
-2025-10-06 15:42:00
-2025-10-06 15:42:00
-2025-10-06 15:42:00
-2025-10-06 15:42:00
-2025-10-06 15:42:01
-2025-10-06 15:42:01
-2025-10-06 15:42:01
-2025-10-06 15:42:01
-2025-10-06 15:42:01
-2025-10-06 15:42:01
-2025-10-06 15:42:01
-2025-10-06 15:42:02
-2025-10-06 15:42:02
-2025-10-06 15:42:02
-2025-10-06 15:42:02
-2025-10-06 15:42:03
-2025-10-06 15:42:03
-2025-10-06 15:42:03
-2025-10-06 15:42:03
-2025-10-06 15:42:03
-2025-10-06 15:42:03
-2025-10-06 15:42:03
-2025-10-06 15:42:03
-2025-10-06 15:42:03
-2025-10-06 15:42:03
-2025-10-06 15:42:04
-2025-10-06 15:42:04
-2025-10-06 15:42:04
-2025-10-06 15:42:04
-2025-10-06 15:42:04
-2025-10-06 15:42:04
-2025-10-06 15:42:05
-2025-10-06 15:42:05
-2025-10-06 15:42:01
-2025-10-06 15:42:01
-2025-10-06 15:42:01
-2025-10-06 15:42:01
-2025-10-06 15:42:01
-2025-10-06 15:42:02
-2025-10-06 15:42:02
-2025-10-06 15:42:02
-2025-10-06 15:42:02
-2025-10-06 15:42:02
-2025-10-06 15:42:02
-2025-10-06 15:42:02
-2025-10-06 15:42:02
-2025-10-06 15:42:02
-2025-10-06 15:42:02
-2024-10-24 15:04:42
-2025-10-06 15:42:03
-2025-10-06 15:42:03
-2025-10-06 15:42:03
-2025-10-06 15:42:03
-2025-10-06 15:42:03
-2025-10-06 15:42:04
-2025-10-06 15:42:04
-2025-10-06 15:42:04
-2025-10-06 15:42:04
-2025-10-06 15:42:04
-2025-10-06 15:42:05
-2025-10-06 15:42:05
-2025-10-06 15:42:05
-2025-10-06 15:42:05
-2025-10-06 15:42:05
-2025-10-06 15:42:05
-2025-10-06 15:42:05
-2025-10-06 15:42:05
-2025-10-06 15:42:05
-2025-10-06 15:42:05
-2025-10-06 15:42:05
-2025-10-06 15:42:05
-2025-10-06 15:42:06
-2025-10-06 15:42:06
-2025-10-06 15:42:06
-2025-10-06 15:42:06
-2025-10-06 15:42:06
-2025-10-06 15:42:06
-2025-10-06 15:42:07
-2025-10-06 15:42:07
-2025-10-06 15:42:07
-2025-10-06 15:42:07
-2025-10-06 15:42:07
-2025-10-06 15:42:07
-2025-10-06 15:42:07
-2025-10-06 15:42:07
-2025-10-06 15:42:07
-2025-10-06 15:42:07
-2025-10-06 15:42:07
-2025-10-06 15:42:08
-2025-10-06 15:42:08
-2025-10-06 15:42:08
-2025-10-06 15:42:08
-2025-10-06 15:42:08
-2025-10-06 15:42:09
-2025-10-06 15:42:09
-2025-10-06 15:42:09
-2025-10-06 15:42:09
-2025-10-06 15:42:09
-2025-10-06 15:42:09
-2025-10-06 15:42:09
-2025-10-06 15:42:09
-2025-10-06 15:42:09
-2025-10-06 15:42:09
-2025-10-06 15:42:10
-2025-10-06 15:42:10
-2025-10-06 15:42:10
-2024-10-24 15:04:43
-2025-10-06 15:42:10
-2025-10-06 15:42:10
-2025-10-06 15:42:10
-2025-10-06 15:42:10
-2025-10-06 15:42:10
-2025-10-06 15:42:10
-2025-10-06 15:42:10
-2025-10-06 15:42:10
-2025-10-06 15:42:10
-2025-10-06 15:42:10
-2025-10-06 15:42:10
-2025-10-06 15:42:10
-2025-10-06 15:42:10
-2025-10-06 15:42:11
-2025-10-06 15:42:11
-2025-10-06 15:42:11
-2025-10-06 15:42:11
-2025-10-06 15:42:11
-2025-10-06 15:42:11
-2025-10-06 15:42:11
-2025-10-06 15:42:11
-2025-10-06 15:42:11
-2025-10-06 15:42:11
-2025-10-06 15:42:11
-2025-10-06 15:42:11
-2025-10-06 15:42:11
-2025-10-06 15:42:11
-2025-10-06 15:42:11
-2025-10-06 15:42:06
-2025-10-06 15:42:06
-2024-10-24 15:04:42
-2025-10-06 15:42:06
-2025-10-06 15:42:06
-2025-10-06 15:42:06
-2025-10-06 15:42:06
-2025-10-06 15:42:06
-2025-10-06 15:42:07
-2025-10-06 15:42:07
-2025-10-06 15:37:20
-2025-10-06 15:42:07
-2025-10-06 15:42:07
-2025-10-06 15:42:07
-2025-10-06 15:42:07
-2025-10-06 15:42:07
-2025-10-06 15:42:07
-2025-10-06 15:42:07
-2025-10-06 15:42:08
-2025-10-06 15:42:07
-2025-10-06 15:42:07
-2025-10-06 15:42:07
-2025-10-06 15:42:08
-2025-10-06 15:42:08
-2025-10-06 15:42:08
-2025-10-06 15:42:08
-2025-10-06 15:42:08
-2025-10-06 15:42:08
-2025-10-06 15:42:08
-2025-10-06 15:42:08
-2025-10-06 15:42:08
-2025-10-06 15:42:08
-2025-10-06 15:42:08
-2025-10-06 15:42:08
-2025-10-06 15:42:09
-2025-10-06 15:42:09
-2025-10-06 15:42:09
-2025-10-06 15:42:09
-2025-10-06 15:42:09
-2025-10-06 15:42:09
-2025-10-06 15:42:09
-2025-10-06 15:42:09
-2025-10-06 15:42:09
-2024-10-24 15:04:43
-2025-10-06 15:42:09
-2025-10-06 15:42:10
-2025-10-06 15:42:10
-2025-10-06 15:42:10
-2025-10-06 15:42:10
-2025-10-06 15:42:10
-2025-10-06 15:42:10
-2025-10-06 15:42:11
-2025-10-06 15:42:11
-2025-10-06 15:42:11
-2025-10-06 15:42:11
-2025-10-06 15:42:11
-2025-10-06 15:42:11
-2025-10-06 15:42:11
-2025-10-06 15:42:11
-2025-10-06 15:42:12
-2025-10-06 15:42:12
-2025-10-06 15:42:12
-2025-10-06 15:42:12
-2025-10-06 15:42:12
-2025-10-06 15:42:12
-2025-10-06 15:42:12
-2025-10-06 15:42:12
-2025-10-06 15:42:12
-2025-10-06 15:42:12
-2025-10-06 15:42:13
-2025-10-06 15:42:13
-2025-10-06 15:42:13
-2025-10-06 15:42:14
-2025-10-06 15:42:14
-2025-10-06 15:42:14
-2025-10-06 15:42:15
-2025-10-06 15:42:15
-2025-10-06 15:42:15
-2025-10-06 15:42:15
-2025-10-06 15:42:15
-2025-10-06 15:42:15
-2025-10-06 15:42:15
-2025-10-06 15:42:15
-2025-10-06 15:42:15
-2025-10-06 15:42:16
-2025-10-06 15:42:16
-2025-10-06 15:42:16
-2025-10-06 15:42:16
-2025-10-06 15:42:16
-2025-10-06 15:42:16
-2025-10-06 15:42:16
-2025-10-06 15:42:16
-2025-10-06 15:42:17
-2025-10-06 15:42:17
-2025-10-06 15:42:17
-2025-10-06 15:42:18
-2025-10-06 15:42:18
-2025-10-06 15:42:18
-2025-10-06 15:42:18
-2025-10-06 15:42:18
-2025-10-06 15:42:18
-2025-10-06 15:42:18
-2025-10-06 15:42:19
-2025-10-06 15:42:18
-2025-10-06 15:42:19
-2025-10-06 15:42:19
-2025-10-06 15:42:19
-2025-10-06 15:42:19
-2025-10-06 15:42:11
-2025-10-06 15:42:12
-2025-10-06 15:42:12
-2025-10-06 15:42:13
-2025-10-06 15:42:13
-2025-10-06 15:42:14
-2025-10-06 15:42:14
-2025-10-06 15:42:14
-2025-10-06 15:42:14
-2025-10-06 15:42:14
-2025-10-06 15:42:14
-2025-10-06 15:42:15
-2025-10-06 15:42:15
-2025-10-06 15:42:16
-2025-10-06 15:42:15
-2025-10-06 15:42:15
-2025-10-06 15:42:15
-2025-10-06 15:42:15
-2025-10-06 15:42:15
-2025-10-06 15:42:16
-2025-10-06 15:42:16
-2025-10-06 15:42:16
-2025-10-06 15:42:16
-2025-10-06 15:42:16
-2025-10-06 15:42:16
-2025-10-06 15:42:16
-2025-10-06 15:42:17
-2025-10-06 15:42:17
-2025-10-06 15:42:17
-2025-10-06 15:42:17
-2025-10-06 15:42:17
-2025-10-06 15:42:17
-2025-10-06 15:42:17
-2025-10-06 15:42:17
-2025-10-06 15:42:17
-2025-10-06 15:42:17
-2025-10-06 15:42:17
-2025-10-06 15:42:17
-2025-10-06 15:42:17
-2025-10-06 15:42:17
-2025-10-06 15:42:17
-2025-10-06 15:42:17
-2025-10-06 15:42:18
-2025-10-06 15:42:18
-2025-10-06 15:42:18
-2025-10-06 15:42:18
-2025-10-06 15:42:18
-2025-10-06 15:42:18
-2025-10-06 15:42:18
-2025-10-06 15:42:18
-2025-10-06 15:42:19
-2025-10-06 15:42:19
-2025-10-06 15:42:19
-2025-10-06 15:42:19
-2024-10-24 15:04:43
-2025-10-06 15:42:19
-2025-10-06 15:42:19
-2025-10-06 15:42:19
-2025-10-06 15:42:19
-2025-10-06 15:42:19
-2025-10-06 15:42:20
-2025-10-06 15:42:20
-2025-10-06 15:42:20
-2025-10-06 15:42:20
-2025-10-06 15:42:20
-2025-10-06 15:42:20
-2025-10-06 15:42:20
-2025-10-06 15:42:20
-2025-10-06 15:42:20
-2025-10-06 15:42:20
-2025-10-06 15:42:20
-2025-10-06 15:42:20
-2025-10-06 15:42:20
-2025-10-06 15:42:20
-2025-10-06 15:42:20
-2025-10-06 15:42:20
-2025-10-06 15:42:20
-2025-10-06 15:42:20
-2025-10-06 15:42:20
-2025-10-06 15:42:21
-2025-10-06 15:42:21
-2025-10-06 15:42:21
-2025-10-06 15:42:21
-2025-10-06 15:42:21
-2025-10-06 15:42:21
-2025-10-06 15:42:21
-2025-10-06 15:42:21
-2025-10-06 15:42:21
-2025-10-06 15:42:21
-2025-10-06 15:42:21
-2025-10-06 15:42:21
-2025-10-06 15:42:21
-2025-10-06 15:42:22
-2025-10-06 15:42:20
-2025-10-06 15:42:20
-2025-10-06 15:42:20
-2025-10-06 15:42:20
-2025-10-06 15:42:20
-2025-10-06 15:42:21
-2025-10-06 15:42:21
-2025-10-06 15:42:21
-2025-10-06 15:42:21
-2025-10-06 15:42:21
-2025-10-06 15:42:21
-2025-10-06 15:42:21
-2025-10-06 15:42:21
-2025-10-06 15:42:21
-2025-10-06 15:42:21
-2025-10-06 15:42:21
-2025-10-06 15:42:21
-2025-10-06 15:42:22
-2025-10-06 15:42:22
-2025-10-06 15:42:22
-2025-10-06 15:42:22
-2025-10-06 15:42:22
-2025-10-06 15:42:22
-2025-10-06 15:42:22
-2025-10-06 15:42:22
-2025-10-06 15:42:22
-2025-10-06 15:42:22
-2025-10-06 15:42:22
-2025-10-06 15:42:22
-2025-10-06 15:42:22
-2025-10-06 15:42:22
-2025-10-06 15:42:22
-2025-10-06 15:42:22
-2025-10-06 15:42:22
-2025-10-06 15:42:22
-2025-10-06 15:42:22
-2025-10-06 15:42:22
-2025-10-06 15:42:22
-2025-10-06 15:42:22
-2025-10-06 15:42:22
-2025-10-06 15:42:22
-2025-10-06 15:42:22
-2025-10-06 15:42:22
-2025-10-06 15:42:23
-2025-10-06 15:42:23
-2025-10-06 15:42:23
-2025-10-06 15:42:23
-2025-10-06 15:42:23
-2025-10-06 15:42:23
-2025-10-06 15:42:23
-2025-10-06 15:42:23
-2025-10-06 15:42:23
-2025-10-06 15:42:23
-2025-10-06 15:41:22
-2025-10-06 15:41:22
-2025-10-06 15:41:22
-2025-10-06 15:41:22
-2025-10-06 15:41:22
-2025-10-06 15:41:22
-2025-10-06 15:41:23
-2025-10-06 15:41:22
-2025-10-06 15:41:22
-2025-10-06 15:41:23
-2025-10-06 15:41:23
-2025-10-06 15:41:23
-2025-10-06 15:41:23
-2025-10-06 15:41:23
-2025-10-06 15:41:23
-2025-10-06 15:41:23
-2025-10-06 15:41:23
-2025-10-06 15:41:23
-2025-10-06 15:41:23
-2025-10-06 15:41:23
-2025-10-06 15:41:23
-2025-10-06 15:41:23
-2025-10-06 15:41:23
-2025-10-06 15:41:23
-2025-10-06 15:41:23
-2025-10-06 15:41:23
-2025-10-06 15:41:23
-2025-10-06 15:41:23
-2025-10-06 15:41:23
-2025-10-06 15:41:23
-2025-10-06 15:41:23
-2025-10-06 15:41:23
-2025-10-06 15:41:23
-2025-10-06 15:41:23
-2025-10-06 15:41:23
-2025-10-06 15:41:23
-2025-10-06 15:41:23
-2025-10-06 15:41:23
-2025-10-06 15:41:23
-2025-10-06 15:41:24
-2025-10-06 15:41:24
-2025-10-06 15:41:24
-2025-10-06 15:41:24
-2025-10-06 15:41:24
-2025-10-06 15:41:24
-2025-10-06 15:41:24
-2025-10-06 15:41:24
-2025-10-06 15:41:24
-2025-10-06 15:41:24
-2025-10-06 15:41:24
-2025-10-06 15:41:24
-2025-10-06 15:41:24
-2025-10-06 15:41:24
-2025-10-06 15:41:24
-2025-10-06 15:41:24
-2025-10-06 15:41:24
-2025-10-06 15:41:24
-2025-10-06 15:41:25
-2025-10-06 15:41:25
-2025-10-06 15:41:25
-2025-10-06 15:41:25
-2025-10-06 15:41:25
-2025-10-06 15:41:25
-2025-10-06 15:41:25
-2025-10-06 15:41:25
-2025-10-06 15:41:25
-2025-10-06 15:41:25
-2025-10-06 15:41:25
-2025-10-06 15:41:25
-2025-10-06 15:41:25
-2025-10-06 15:41:25
-2025-10-06 15:41:25
-2025-10-06 15:41:25
-2025-10-06 15:41:25
-2025-10-06 15:41:25
-2025-10-06 15:41:26
-2025-10-06 15:41:26
-2025-10-06 15:41:26
-2025-10-06 15:41:26
-2025-10-06 15:41:26
-2025-10-06 15:41:26
-2025-10-06 15:41:26
-2025-10-06 15:41:26
-2025-10-06 15:41:26
-2025-10-06 15:41:26
-2025-10-06 15:41:26
-2025-10-06 15:41:26
-2025-10-06 15:41:26
-2025-10-06 15:41:26
-2025-10-06 15:41:26
-2025-10-06 15:41:26
-2025-10-06 15:41:27
-2025-10-06 15:41:26
-2025-10-06 15:41:26
-2025-10-06 15:41:26
-2025-10-06 15:41:27
-2025-10-06 15:41:27
-2025-10-06 15:41:27
-2025-10-06 15:41:27
-2025-10-06 15:41:27
-2025-10-06 15:41:27
-2025-10-06 15:41:27
-2024-10-24 15:04:38
-2025-10-06 15:41:27
-2024-10-24 15:04:38
-2025-10-06 15:41:27
-2025-10-06 15:41:27
-2025-10-06 15:41:27
-2025-10-06 15:41:27
-2025-10-06 15:41:27
-2025-10-06 15:41:27
-2025-10-06 15:41:27
-2025-10-06 15:41:27
-2025-10-06 15:41:27
-2025-10-06 15:41:28
-2025-10-06 15:41:28
-2025-10-06 15:41:28
-2025-10-06 15:41:28
-2025-10-06 15:41:28
-2025-10-06 15:41:28
-2025-10-06 15:41:28
-2024-10-24 15:04:38
-2025-10-06 15:41:28
-2025-10-06 15:41:28
-2025-10-06 15:41:28
-2025-10-06 15:41:28
-2025-10-06 15:41:28
-2025-10-06 15:41:28
-2025-10-06 15:41:28
-2025-10-06 15:41:29
-2025-10-06 15:41:34
-2025-10-06 15:41:29
-2025-10-06 15:41:29
-2025-10-06 15:41:29
-2025-10-06 15:41:29
-2025-10-06 15:41:29
-2025-10-06 15:41:29
-2025-10-06 15:41:29
-2025-10-06 15:41:29
-2025-10-06 15:41:29
-2025-10-06 15:41:29
-2025-10-06 15:41:29
-2025-10-06 15:41:29
-2025-10-06 15:41:29
-2025-10-06 15:41:30
-2025-10-06 15:41:29
-2025-10-06 15:41:29
-2025-10-06 15:41:29
-2025-10-06 15:41:29
-2025-10-06 15:41:29
-2025-10-06 15:41:30
-2025-10-06 15:41:30
-2025-10-06 15:41:30
-2025-10-06 15:41:30
-2025-10-06 15:41:30
-2025-10-06 15:41:30
-2025-10-06 15:41:30
-2025-10-06 15:41:30
-2025-10-06 15:41:30
-2025-10-06 15:41:30
-2025-10-06 15:41:30
-2025-10-06 15:41:30
-2025-10-06 15:41:30
-2025-10-06 15:41:30
-2025-10-06 15:41:31
-2025-10-06 15:41:31
-2025-10-06 15:41:31
-2025-10-06 15:41:31
-2025-10-06 15:41:31
-2025-10-06 15:41:31
-2025-10-06 15:41:31
-2025-10-06 15:41:31
-2025-10-06 15:41:31
-2025-10-06 15:41:31
-2025-10-06 15:41:31
-2025-10-06 15:41:31
-2025-10-06 15:41:31
-2025-10-06 15:41:31
-2025-10-06 15:41:31
-2025-10-06 15:41:31
-2025-10-06 15:41:31
-2025-10-06 15:41:31
-2025-10-06 15:41:32
-2025-10-06 15:41:31
-2025-10-06 15:41:31
-2025-10-06 15:41:31
-2025-10-06 15:41:31
-2025-10-06 15:41:31
-2025-10-06 15:41:32
-2025-10-06 15:41:32
-2025-10-06 15:41:32
-2025-10-06 15:41:32
-2025-10-06 15:41:32
-2025-10-06 15:41:32
-2025-10-06 15:41:32
-2025-10-06 15:41:33
-2025-10-06 15:41:32
-2025-10-06 15:41:32
-2025-10-06 15:41:32
-2025-10-06 15:41:32
-2025-10-06 15:41:32
-2025-10-06 15:41:32
-2025-10-06 15:41:32
-2025-10-06 15:41:32
-2025-10-06 15:41:32
-2025-10-06 15:41:33
-2025-10-06 15:41:33
-2025-10-06 15:41:33
-2025-10-06 15:41:33
-2025-10-06 15:41:33
-2025-10-06 15:41:33
-2025-10-06 15:41:33
-2025-10-06 15:41:33
-2025-10-06 15:41:33
-2025-10-06 15:41:33
-2025-10-06 15:41:33
-2025-10-06 15:41:33
-2025-10-06 15:41:33
-2025-10-06 15:41:33
-2025-10-06 15:41:33
-2025-10-06 15:41:33
-2025-10-06 15:41:33
-2025-10-06 15:41:33
-2025-10-06 15:41:33
-2025-10-06 15:41:33
-2025-10-06 15:41:33
-2025-10-06 15:41:33
-2025-10-06 15:41:33
-2025-10-06 15:41:33
-2025-10-06 15:41:33
-2025-10-06 15:41:34
-2025-10-06 15:41:34
-2025-10-06 15:41:34
-2025-10-06 15:41:34
-2025-10-06 15:41:34
-2025-10-06 15:41:34
-2025-10-06 15:41:34
-2025-10-06 15:41:34
-2025-10-06 15:41:34
-2025-10-06 15:41:34
-2025-10-06 15:41:34
-2025-10-06 15:41:34
-2025-10-06 15:41:34
-2025-10-06 15:41:34
-2025-10-06 15:41:34
-2025-10-06 15:41:34
-2025-10-06 15:41:34
-2025-10-06 15:41:34
-2025-10-06 15:41:34
-2025-10-06 15:41:34
-2025-10-06 15:41:34
-2025-10-06 15:41:34
-2025-10-06 15:41:34
-2025-10-06 15:41:37
-2025-10-06 15:41:35
-2025-10-06 15:41:34
-2025-10-06 15:41:34
-2025-10-06 15:41:35
-2025-10-06 15:41:35
-2025-10-06 15:41:35
-2025-10-06 15:41:35
-2025-10-06 15:41:35
-2025-10-06 15:41:35
-2025-10-06 15:41:35
-2025-10-06 15:41:35
-2025-10-06 15:41:35
-2025-10-06 15:41:35
-2025-10-06 15:41:35
-2025-10-06 15:41:35
-2025-10-06 15:41:35
-2025-10-06 15:41:35
-2025-10-06 15:41:35
-2025-10-06 15:41:35
-2025-10-06 15:41:36
-2025-10-06 15:41:36
-2025-10-06 15:41:36
-2025-10-06 15:41:36
-2025-10-06 15:41:36
-2025-10-06 15:41:36
-2025-10-06 15:41:36
-2025-10-06 15:41:36
-2025-10-06 15:41:36
-2025-10-06 15:41:36
-2025-10-06 15:41:36
-2025-10-06 15:41:36
-2025-10-06 15:41:36
-2025-10-06 15:41:36
-2025-10-06 15:41:36
-2025-10-06 15:41:36
-2025-10-06 15:41:36
-2025-10-06 15:41:36
-2025-10-06 15:41:37
-2025-10-06 15:41:37
-2025-10-06 15:41:37
-2025-10-06 15:41:37
-2025-10-06 15:41:37
-2025-10-06 15:41:37
-2025-10-06 15:41:37
-2025-10-06 15:41:37
-2025-10-06 15:41:37
-2025-10-06 15:41:37
-2025-10-06 15:41:37
-2025-10-06 15:41:37
-2025-10-06 15:41:37
-2025-10-06 15:41:37
-2025-10-06 15:41:38
-2025-10-06 15:41:38
-2025-10-06 15:41:38
-2025-10-06 15:41:38
-2025-10-06 15:41:38
-2025-10-06 15:41:38
-2025-10-06 15:41:38
-2025-10-06 15:41:38
-2025-10-06 15:41:38
-2025-10-06 15:41:38
-2025-10-06 15:41:38
-2025-10-06 15:41:38
-2025-10-06 15:41:38
-2025-10-06 15:41:38
-2025-10-06 15:41:38
-2025-10-06 15:41:39
-2025-10-06 15:41:38
-2025-10-06 15:41:38
-2025-10-06 15:41:39
-2025-10-06 15:41:39
-2025-10-06 15:41:39
-2025-10-06 15:41:39
-2025-10-06 15:41:39
-2025-10-06 15:41:39
-2025-10-06 15:41:39
-2025-10-06 15:41:39
-2025-10-06 15:41:39
-2025-10-06 15:41:39
-2025-10-06 15:41:39
-2025-10-06 15:41:39
-2025-10-06 15:41:39
-2025-10-06 15:41:39
-2025-10-06 15:41:39
-2025-10-06 15:41:39
-2025-10-06 15:41:39
-2025-10-06 15:41:39
-2025-10-06 15:41:39
-2025-10-06 15:41:39
-2025-10-06 15:41:39
-2025-10-06 15:41:40
-2025-10-06 15:41:40
-2025-10-06 15:41:39
-2025-10-06 15:41:39
-2025-10-06 15:41:39
-2025-10-06 15:41:39
-2025-10-06 15:41:40
-2025-10-06 15:41:40
-2025-10-06 15:41:40
-2025-10-06 15:41:40
-2025-10-06 15:41:40
-2025-10-06 15:41:40
-2025-10-06 15:41:40
-2025-10-06 15:41:40
-2025-10-06 15:41:40
-2025-10-06 15:41:40
-2025-10-06 15:41:40
-2025-10-06 15:41:40
-2025-10-06 15:41:40
-2025-10-06 15:41:40
-2025-10-06 15:41:40
-2025-10-06 15:41:40
-2025-10-06 15:41:40
-2025-10-06 15:41:40
-2025-10-06 15:41:40
-2025-10-06 15:41:40
-2025-10-06 15:41:40
-2025-10-06 15:41:40
-2025-10-06 15:41:40
-2025-10-06 15:41:40
-2025-10-06 15:41:40
-2025-10-06 15:41:40
-2025-10-06 15:41:40
-2025-10-06 15:41:41
-2025-10-06 15:41:41
-2025-10-06 15:41:41
-2025-10-06 15:41:41
-2025-10-06 15:41:41
-2025-10-06 15:41:41
-2025-10-06 15:41:41
-2025-10-06 15:41:41
-2025-10-06 15:41:41
-2025-10-06 15:41:41
-2025-10-06 15:41:41
-2025-10-06 15:41:41
-2025-10-06 15:41:41
-2025-10-06 15:41:40
-2025-10-06 15:41:41
-2025-10-06 15:41:41
-2025-10-06 15:41:41
-2025-10-06 15:41:41
-2025-10-06 15:41:41
-2025-10-06 15:41:41
-2025-10-06 15:41:41
-2025-10-06 15:41:41
-2025-10-06 15:41:41
-2025-10-06 15:41:41
-2025-10-06 15:41:42
-2025-10-06 15:41:42
-2025-10-06 15:41:42
-2025-10-06 15:41:42
-2025-10-06 15:41:42
-2025-10-06 15:41:44
-2025-10-06 15:41:41
-2025-10-06 15:41:41
-2025-10-06 15:41:41
-2025-10-06 15:41:41
-2025-10-06 15:41:41
-2025-10-06 15:41:41
-2025-10-06 15:41:41
-2025-10-06 15:41:42
-2025-10-06 15:41:42
-2025-10-06 15:41:42
-2025-10-06 15:41:42
-2025-10-06 15:41:42
-2025-10-06 15:41:42
-2025-10-06 15:41:42
-2025-10-06 15:41:42
-2025-10-06 15:41:42
-2025-10-06 15:41:42
-2025-10-06 15:41:42
-2025-10-06 15:41:42
-2025-10-06 15:41:42
-2025-10-06 15:41:42
-2025-10-06 15:41:42
-2025-10-06 15:41:42
-2025-10-06 15:41:43
-2025-10-06 15:41:43
-2025-10-06 15:41:43
-2025-10-06 15:41:43
-2025-10-06 15:41:43
-2025-10-06 15:41:43
-2025-10-06 15:41:43
-2025-10-06 15:41:43
-2025-10-06 15:41:43
-2025-10-06 15:41:43
-2025-10-06 15:41:43
-2025-10-06 15:41:43
-2025-10-06 15:41:43
-2025-10-06 15:41:43
-2025-10-06 15:41:43
-2025-10-06 15:41:43
-2025-10-06 15:41:43
-2025-10-06 15:41:44
-2025-10-06 15:41:44
-2025-10-06 15:41:44
-2025-10-06 15:41:44
-2025-10-06 15:41:44
-2025-10-06 15:41:44
-2025-10-06 15:41:44
-2025-10-06 15:41:44
-2025-10-06 15:41:44
-2025-10-06 15:41:44
-2025-10-06 15:41:44
-2025-10-06 15:41:44
-2025-10-06 15:41:44
-2025-10-06 15:41:44
-2025-10-06 15:41:44
-2025-10-06 15:41:44
-2025-10-06 15:41:44
-2025-10-06 15:41:44
-2025-10-06 15:41:44
-2025-10-06 15:41:44
-2025-10-06 15:41:45
-2025-10-06 15:41:45
-2025-10-06 15:41:45
-2025-10-06 15:41:45
-2025-10-06 15:41:45
-2025-10-06 15:41:45
-2025-10-06 15:41:45
-2025-10-06 15:41:45
-2025-10-06 15:41:45
-2025-10-06 15:41:45
-2025-10-06 15:41:45
-2025-10-06 15:41:45
-2025-10-06 15:41:45
-2025-10-06 15:41:45
-2025-10-06 15:41:46
-2025-10-06 15:41:46
-2025-10-06 15:41:46
-2025-10-06 15:41:46
-2025-10-06 15:41:46
-2025-10-06 15:41:46
-2025-10-06 15:41:46
-2025-10-06 15:41:46
-2025-10-06 15:41:46
-2025-10-06 15:41:46
-2025-10-06 15:41:47
-2025-10-06 15:41:47
-2025-10-06 15:41:47
-2025-10-06 15:41:47
-2025-10-06 15:41:47
-2025-10-06 15:41:47
-2025-10-06 15:41:47
-2025-10-06 15:41:47
-2025-10-06 15:41:47
-2025-10-06 15:41:47
-2025-10-06 15:41:47
-2025-10-06 15:41:47
-2025-10-06 15:41:47
-2025-10-06 15:41:47
-2025-10-06 15:41:47
-2025-10-06 15:41:47
-2025-10-06 15:41:47
-2025-10-06 15:41:47
-2025-10-06 15:41:48
-2025-10-06 15:41:48
-2025-10-06 15:41:49
-2025-10-06 15:41:49
-2025-10-06 15:41:49
-2025-10-06 15:41:49
-2025-10-06 15:41:49
-2025-10-06 15:41:49
-2025-10-06 15:41:49
-2025-10-06 15:41:49
-2025-10-06 15:41:49
-2025-10-06 15:41:49
-2025-10-06 15:41:49
-2025-10-06 15:41:47
-2025-10-06 15:41:47
-2025-10-06 15:41:47
-2025-10-06 15:41:47
-2025-10-06 15:41:47
-2025-10-06 15:41:47
-2025-10-06 15:41:47
-2025-10-06 15:41:48
-2025-10-06 15:41:48
-2025-10-06 15:41:48
-2025-10-06 15:41:48
-2025-10-06 15:41:48
-2025-10-06 15:41:48
-2025-10-06 15:41:48
-2025-10-06 15:41:48
-2025-10-06 15:41:48
-2025-10-06 15:41:48
-2025-10-06 15:41:48
-2025-10-06 15:41:48
-2025-10-06 15:41:48
-2025-10-06 15:41:48
-2025-10-06 15:41:48
-2025-10-06 15:41:48
-2025-10-06 15:41:49
-2025-10-06 15:41:49
-2025-10-06 15:41:49
-2025-10-06 15:41:49
-2025-10-06 15:41:49
-2025-10-06 15:41:49
-2025-10-06 15:41:49
-2025-10-06 15:41:49
-2025-10-06 15:41:49
-2025-10-06 15:41:49
-2025-10-06 15:41:49
-2025-10-06 15:41:50
-2025-10-06 15:41:50
-2025-10-06 15:41:50
-2025-10-06 15:41:50
-2025-10-06 15:41:50
-2025-10-06 15:41:50
-2025-10-06 15:41:50
-2025-10-06 15:41:50
-2025-10-06 15:41:50
-2025-10-06 15:41:50
-2025-10-06 15:41:50
-2025-10-06 15:41:50
-2025-10-06 15:41:50
-2025-10-06 15:41:50
-2025-10-06 15:41:50
-2025-10-06 15:41:50
-2025-10-06 15:41:50
-2025-10-06 15:41:50
-2025-10-06 15:41:50
-2025-10-06 15:41:50
-2025-10-06 15:41:50
-2025-10-06 15:41:50
-2025-10-06 15:41:50
-2025-10-06 15:41:51
-2025-10-06 15:41:51
-2025-10-06 15:41:51
-2025-10-06 15:41:51
-2025-10-06 15:41:51
-2025-10-06 15:41:52
-2025-10-06 15:41:52
-2025-10-06 15:41:51
-2025-10-06 15:41:51
-2025-10-06 15:41:52
-2025-10-06 15:41:51
-2025-10-06 15:41:51
-2025-10-06 15:41:51
-2025-10-06 15:41:51
-2025-10-06 15:41:51
-2025-10-06 15:41:51
-2025-10-06 15:41:51
-2025-10-06 15:41:51
-2025-10-06 15:41:51
-2025-10-06 15:41:52
-2025-10-06 15:41:52
-2025-10-06 15:41:52
-2025-10-06 15:41:52
-2025-10-06 15:41:52
-2025-10-06 15:41:52
-2025-10-06 15:41:52
-2025-10-06 15:41:52
-2025-10-06 15:41:52
-2025-10-06 15:41:52
-2025-10-06 15:41:52
-2025-10-06 15:41:52
-2025-10-06 15:41:52
-2025-10-06 15:41:53
-2025-10-06 15:41:53
-2025-10-06 15:41:53
-2025-10-06 15:41:53
-2025-10-06 15:41:53
-2025-10-06 15:41:53
-2025-10-06 15:41:53
-2025-10-06 15:41:53
-2025-10-06 15:41:53
-2025-10-06 15:41:53
-2025-10-06 15:41:53
-2025-10-06 15:41:53
-2025-10-06 15:41:53
-2025-10-06 15:41:53
-2025-10-06 15:41:53
-2025-10-06 15:41:53
-2025-10-06 15:41:53
-2025-10-06 15:41:53
-2025-10-06 15:41:53
-2025-10-06 15:41:53
-2025-10-06 15:41:53
-2025-10-06 15:41:54
-2025-10-06 15:41:54
-2025-10-06 15:41:54
-2025-10-06 15:41:54
-2025-10-06 15:41:54
-2025-10-06 15:41:54
-2025-10-06 15:41:54
-2025-10-06 15:41:54
-2025-10-06 15:41:54
-2025-10-06 15:41:54
-2025-10-06 15:41:54
-2025-10-06 15:41:54
-2025-10-06 15:41:54
-2025-10-06 15:41:55
-2025-10-06 15:41:55
-2025-10-06 15:41:55
-2025-10-06 15:41:55
-2025-10-06 15:41:55
-2025-10-06 15:41:55
-2025-10-06 15:41:55
-2025-10-06 15:41:55
-2025-10-06 15:41:55
-2025-10-06 15:41:54
-2025-10-06 15:41:54
-2025-10-06 15:41:54
-2025-10-06 15:41:54
-2025-10-06 15:41:54
-2025-10-06 15:41:54
-2025-10-06 15:41:54
-2025-10-06 15:41:54
-2025-10-06 15:41:54
-2024-10-24 15:04:41
-2025-10-06 15:41:55
-2025-10-06 15:41:55
-2025-10-06 15:41:55
-2025-10-06 15:41:55
-2025-10-06 15:41:55
-2025-10-06 15:41:55
-2025-10-06 15:41:55
-2025-10-06 15:41:55
-2025-10-06 15:41:55
-2025-10-06 15:41:55
-2025-10-06 15:41:55
-2025-10-06 15:41:55
-2025-10-06 15:41:55
-2025-10-06 15:41:55
-2025-10-06 15:41:55
-2025-10-06 15:41:55
-2025-10-06 15:41:55
-2025-10-06 15:41:55
-2025-10-06 15:41:56
-2025-10-06 15:41:56
-2025-10-06 15:41:56
-2025-10-06 15:41:56
-2025-10-06 15:41:56
-2025-10-06 15:41:56
-2025-10-06 15:41:56
-2025-10-06 15:41:56
-2025-10-06 15:41:56
-2025-10-06 15:41:56
-2025-10-06 15:41:56
-2025-10-06 15:41:56
-2025-10-06 15:41:56
-2025-10-06 15:41:57
-2025-10-06 15:41:57
-2025-10-06 15:41:56
-2025-10-06 15:41:57
-2025-10-06 15:41:57
-2025-10-06 15:41:57
-2025-10-06 15:41:57
-2025-10-06 15:41:57
-2025-10-06 15:41:57
-2025-10-06 15:41:57
-2025-10-06 15:41:58
-2025-10-06 15:41:58
-2025-10-06 15:41:58
-2025-10-06 15:41:58
-2025-10-06 15:41:58
-2025-10-06 15:41:58
-2025-10-06 15:41:58
-2025-10-06 15:41:58
-2025-10-06 15:41:58
-2025-10-06 15:41:58
-2025-10-06 15:41:58
-2025-10-06 15:41:58
-2025-10-06 15:41:58
-2025-10-06 15:41:58
-2025-10-06 15:41:58
-2025-10-06 15:41:58
-2024-10-24 15:04:41
-2025-10-06 15:41:58
-2025-10-06 15:41:58
-2025-10-06 15:41:58
-2025-10-06 15:41:58
-2025-10-06 15:41:59
-2025-10-06 15:41:59
-2025-10-06 15:41:59
-2024-10-24 15:04:41
-2025-10-06 15:41:59
-2025-10-06 15:41:59
-2025-10-06 15:41:59
-2025-10-06 15:41:59
-2025-10-06 15:41:59
-2025-10-06 15:41:59
-2025-10-06 15:41:59
-2025-10-06 15:41:59
-2025-10-06 15:41:59
-2025-10-06 15:41:59
-2025-10-06 15:41:59
-2025-10-06 15:41:59
-2025-10-06 15:41:59
-2025-10-06 15:41:59
-2025-10-06 15:41:59
-2025-10-06 15:41:59
-2025-10-06 15:41:59
-2025-10-06 15:41:59
-2025-10-06 15:41:59
-2025-10-06 15:41:59
-2025-10-06 15:41:59
-2025-10-06 15:42:00
-2025-10-06 15:42:00
-2025-10-06 15:42:00
-2025-10-06 15:42:00
-2025-10-06 15:42:00
-2025-10-06 15:42:00
-2025-10-06 15:42:00
-2025-10-06 15:42:00
-2025-10-06 15:42:00
-2025-10-06 15:42:00
-2025-10-06 15:42:00
-2025-10-06 15:42:00
-2025-10-06 15:42:00
-2025-10-06 15:42:00
-2025-10-06 15:42:00
-2025-10-06 15:42:00
-2025-10-06 15:42:00
-2025-10-06 15:42:00
-2025-10-06 15:42:00
-2025-10-06 15:42:00
-2025-10-06 15:42:01
-2025-10-06 15:42:01
-2025-10-06 15:42:04
-2025-10-06 15:42:04
-2025-10-06 15:42:01
-2025-10-06 15:42:01
-2025-10-06 15:42:01
-2025-10-06 15:42:01
-2025-10-06 15:42:01
-2025-10-06 15:42:01
-2025-10-06 15:42:01
-2025-10-06 15:42:01
-2025-10-06 15:42:01
-2025-10-06 15:42:01
-2025-10-06 15:42:01
-2025-10-06 15:42:01
-2025-10-06 15:42:01
-2025-10-06 15:42:01
-2025-10-06 15:42:01
-2025-10-06 15:42:01
-2025-10-06 15:42:01
-2025-10-06 15:42:01
-2025-10-06 15:42:02
-2025-10-06 15:42:02
-2025-10-06 15:42:02
-2025-10-06 15:42:02
-2025-10-06 15:42:02
-2025-10-06 15:42:02
-2025-10-06 15:42:02
-2025-10-06 15:42:02
-2025-10-06 15:42:02
-2025-10-06 15:42:02
-2025-10-06 15:42:02
-2025-10-06 15:42:02
-2025-10-06 15:42:02
-2025-10-06 15:42:02
-2025-10-06 15:42:02
-2025-10-06 15:42:02
-2025-10-06 15:42:02
-2025-10-06 15:42:02
-2025-10-06 15:42:02
-2025-10-06 15:42:02
-2025-10-06 15:42:02
-2025-10-06 15:42:02
-2025-10-06 15:42:03
-2025-10-06 15:42:03
-2025-10-06 15:42:03
-2025-10-06 15:42:03
-2025-10-06 15:42:03
-2025-10-06 15:42:03
-2025-10-06 15:42:03
-2025-10-06 15:42:03
-2025-10-06 15:42:03
-2025-10-06 15:42:03
-2025-10-06 15:42:03
-2025-10-06 15:42:03
-2025-10-06 15:42:03
-2025-10-06 15:42:03
-2025-10-06 15:42:03
-2025-10-06 15:42:03
-2025-10-06 15:42:03
-2025-10-06 15:42:03
-2025-10-06 15:42:03
-2024-10-24 15:04:42
-2025-10-06 15:42:03
-2025-10-06 15:42:03
-2025-10-06 15:42:04
-2025-10-06 15:42:04
-2025-10-06 15:42:04
-2025-10-06 15:42:04
-2025-10-06 15:42:04
-2025-10-06 15:42:04
-2025-10-06 15:42:04
-2025-10-06 15:42:04
-2025-10-06 15:42:04
-2025-10-06 15:42:04
-2025-10-06 15:42:04
-2025-10-06 15:42:04
-2025-10-06 15:42:04
-2025-10-06 15:42:04
-2025-10-06 15:42:04
-2025-10-06 15:42:04
-2025-10-06 15:42:04
-2024-10-24 15:04:42
-2025-10-06 15:42:05
-2025-10-06 15:42:05
-2025-10-06 15:42:05
-2025-10-06 15:42:05
-2025-10-06 15:42:05
-2025-10-06 15:42:05
-2025-10-06 15:42:05
-2025-10-06 15:42:05
-2025-10-06 15:42:05
-2025-10-06 15:42:05
-2025-10-06 15:42:05
-2025-10-06 15:42:05
-2025-10-06 15:42:05
-2025-10-06 15:42:05
-2025-10-06 15:42:05
-2025-10-06 15:42:05
-2025-10-06 15:42:05
-2025-10-06 15:42:05
-2025-10-06 15:42:05
-2025-10-06 15:42:06
-2025-10-06 15:42:07
-2025-10-06 15:42:07
-2025-10-06 15:42:07
-2024-10-24 15:04:42
-2025-10-06 15:42:08
-2025-10-06 15:42:09
-2025-10-06 15:42:09
-2025-10-06 15:42:10
-2025-10-06 15:42:11
-2025-10-06 15:42:11
-2025-10-06 15:42:11
-2025-10-06 15:42:11
-2025-10-06 15:42:11
-2025-10-06 15:42:06
-2025-10-06 15:42:06
-2025-10-06 15:42:06
-2025-10-06 15:42:06
-2025-10-06 15:42:06
-2025-10-06 15:42:06
-2025-10-06 15:42:06
-2025-10-06 15:42:06
-2025-10-06 15:42:07
-2025-10-06 15:42:07
-2025-10-06 15:42:08
-2025-10-06 15:42:08
-2025-10-06 15:42:08
-2025-10-06 15:42:08
-2025-10-06 15:42:08
-2025-10-06 15:42:08
-2025-10-06 15:42:08
-2025-10-06 15:42:08
-2025-10-06 15:42:08
-2025-10-06 15:42:08
-2025-10-06 15:42:08
-2025-10-06 15:42:08
-2025-10-06 15:42:08
-2025-10-06 15:42:08
-2025-10-06 15:42:08
-2025-10-06 15:42:08
-2025-10-06 15:42:08
-2025-10-06 15:42:09
-2025-10-06 15:42:09
-2025-10-06 15:42:09
-2025-10-06 15:42:09
-2025-10-06 15:42:09
-2025-10-06 15:42:09
-2025-10-06 15:42:09
-2025-10-06 15:42:09
-2025-10-06 15:42:09
-2025-10-06 15:42:09
-2025-10-06 15:42:09
-2025-10-06 15:42:09
-2025-10-06 15:42:09
-2025-10-06 15:42:10
-2025-10-06 15:42:10
-2025-10-06 15:42:10
-2025-10-06 15:42:10
-2025-10-06 15:42:10
-2025-10-06 15:42:10
-2025-10-06 15:42:10
-2025-10-06 15:42:10
-2025-10-06 15:42:10
-2025-10-06 15:42:10
-2025-10-06 15:42:10
-2025-10-06 15:42:11
-2025-10-06 15:42:11
-2025-10-06 15:42:11
-2025-10-06 15:42:11
-2025-10-06 15:42:11
-2025-10-06 15:42:18
-2025-10-06 15:42:18
-2025-10-06 15:42:18
-2025-10-06 15:42:11
-2025-10-06 15:42:11
-2025-10-06 15:42:11
-2025-10-06 15:42:12
-2025-10-06 15:42:12
-2025-10-06 15:42:12
-2025-10-06 15:42:12
-2025-10-06 15:42:12
-2025-10-06 15:42:12
-2025-10-06 15:42:12
-2025-10-06 15:42:12
-2025-10-06 15:42:12
-2025-10-06 15:42:12
-2025-10-06 15:42:12
-2025-10-06 15:42:12
-2025-10-06 15:42:12
-2025-10-06 15:42:12
-2025-10-06 15:42:12
-2025-10-06 15:42:12
-2025-10-06 15:42:12
-2025-10-06 15:42:13
-2025-10-06 15:42:13
-2025-10-06 15:42:13
-2025-10-06 15:42:13
-2025-10-06 15:42:13
-2025-10-06 15:42:13
-2025-10-06 15:42:13
-2025-10-06 15:42:13
-2025-10-06 15:42:13
-2025-10-06 15:42:13
-2025-10-06 15:42:13
-2025-10-06 15:42:13
-2025-10-06 15:42:13
-2025-10-06 15:42:13
-2025-10-06 15:42:13
-2025-10-06 15:42:13
-2025-10-06 15:42:14
-2025-10-06 15:42:14
-2025-10-06 15:42:14
-2025-10-06 15:42:14
-2025-10-06 15:42:14
-2025-10-06 15:42:12
-2025-10-06 15:42:12
-2025-10-06 15:42:12
-2025-10-06 15:42:12
-2025-10-06 15:42:12
-2025-10-06 15:42:12
-2025-10-06 15:42:12
-2025-10-06 15:42:13
-2025-10-06 15:42:13
-2025-10-06 15:42:13
-2025-10-06 15:42:13
-2025-10-06 15:42:13
-2025-10-06 15:42:13
-2025-10-06 15:42:13
-2025-10-06 15:42:13
-2025-10-06 15:42:13
-2025-10-06 15:42:13
-2025-10-06 15:42:13
-2025-10-06 15:42:13
-2025-10-06 15:42:14
-2025-10-06 15:42:14
-2025-10-06 15:42:14
-2025-10-06 15:42:14
-2025-10-06 15:42:14
-2025-10-06 15:42:14
-2025-10-06 15:42:14
-2025-10-06 15:42:14
-2025-10-06 15:42:14
-2025-10-06 15:42:14
-2025-10-06 15:42:14
-2025-10-06 15:42:14
-2025-10-06 15:42:14
-2025-10-06 15:42:14
-2025-10-06 15:42:14
-2025-10-06 15:42:14
-2025-10-06 15:42:14
-2025-10-06 15:42:14
-2025-10-06 15:42:14
-2025-10-06 15:42:14
-2025-10-06 15:42:14
-2025-10-06 15:42:15
-2025-10-06 15:42:15
-2025-10-06 15:42:15
-2025-10-06 15:42:15
-2025-10-06 15:42:15
-2025-10-06 15:42:15
-2025-10-06 15:42:15
-2025-10-06 15:42:15
-2025-10-06 15:42:15
-2025-10-06 15:42:15
-2025-10-06 15:42:15
-2025-10-06 15:42:15
-2025-10-06 15:42:15
-2025-10-06 15:42:15
-2025-10-06 15:42:15
-2025-10-06 15:42:15
-2025-10-06 15:42:15
-2025-10-06 15:42:15
-2025-10-06 15:42:16
-2024-10-24 15:04:43
-2025-10-06 15:42:16
-2025-10-06 15:42:16
-2025-10-06 15:42:16
-2025-10-06 15:42:16
-2025-10-06 15:42:16
-2025-10-06 15:42:16
-2025-10-06 15:42:16
-2025-10-06 15:42:16
-2025-10-06 15:42:16
-2025-10-06 15:42:16
-2025-10-06 15:42:16
-2025-10-06 15:42:16
-2025-10-06 15:42:16
-2025-10-06 15:42:16
-2025-10-06 15:42:16
-2025-10-06 15:42:16
-2025-10-06 15:42:16
-2025-10-06 15:42:16
-2025-10-06 15:42:17
-2025-10-06 15:42:17
-2025-10-06 15:42:17
-2025-10-06 15:42:17
-2025-10-06 15:42:17
-2025-10-06 15:42:17
-2025-10-06 15:42:17
-2025-10-06 15:42:17
-2025-10-06 15:42:17
-2025-10-06 15:42:17
-2025-10-06 15:42:17
-2025-10-06 15:42:17
-2025-10-06 15:42:17
-2025-10-06 15:42:17
-2025-10-06 15:42:17
-2025-10-06 15:42:17
-2025-10-06 15:42:17
-2025-10-06 15:42:18
-2025-10-06 15:42:18
-2025-10-06 15:42:18
-2025-10-06 15:42:18
-2025-10-06 15:42:18
-2025-10-06 15:42:18
-2025-10-06 15:42:18
-2025-10-06 15:42:18
-2025-10-06 15:42:18
-2025-10-06 15:42:18
-2025-10-06 15:42:18
-2025-10-06 15:42:18
-2025-10-06 15:42:19
-2025-10-06 15:42:18
-2025-10-06 15:42:18
-2025-10-06 15:42:18
-2025-10-06 15:42:18
-2025-10-06 15:42:18
-2025-10-06 15:42:19
-2025-10-06 15:42:19
-2025-10-06 15:42:19
-2025-10-06 15:42:19
-2025-10-06 15:42:19
-2025-10-06 15:42:19
-2025-10-06 15:42:19
-2025-10-06 15:42:19
-2025-10-06 15:42:19
-2025-10-06 15:42:19
-2025-10-06 15:42:19
-2025-10-06 15:42:19
-2025-10-06 15:42:19
-2025-10-06 15:42:19
-2025-10-06 15:42:19
-2025-10-06 15:42:19
-2025-10-06 15:42:19
-2025-10-06 15:42:19
-2025-10-06 15:42:19
-2025-10-06 15:42:19
-2025-10-06 15:42:20
-2025-10-06 15:42:20
-2025-10-06 15:42:20
-2025-10-06 15:42:20
-2025-10-06 15:42:21
-2025-10-06 15:42:21
-2025-10-06 15:42:21
-2025-10-06 15:42:21
-2025-10-06 15:42:21
-2025-10-06 15:42:20
-2025-10-06 15:42:20
-2025-10-06 15:42:20
-2025-10-06 15:42:20
-2025-10-06 15:42:20
-2025-10-06 15:42:20
-2025-10-06 15:42:20
-2025-10-06 15:42:20
-2025-10-06 15:42:20
-2025-10-06 15:42:20
-2025-10-06 15:42:20
-2025-10-06 15:42:20
-2025-10-06 15:42:20
-2025-10-06 15:42:20
-2025-10-06 15:42:20
-2025-10-06 15:42:20
-2025-10-06 15:42:20
-2025-10-06 15:42:20
-2025-10-06 15:42:20
-2025-10-06 15:42:20
-2025-10-06 15:42:20
-2025-10-06 15:42:21
-2025-10-06 15:42:21
-2025-10-06 15:42:21
-2025-10-06 15:42:21
-2025-10-06 15:42:21
-2025-10-06 15:42:21
-2025-10-06 15:42:21
-2025-10-06 15:42:21
-2025-10-06 15:42:21
-2025-10-06 15:42:21
-2025-10-06 15:42:21
-2025-10-06 15:42:21
-2025-10-06 15:42:21
-2025-10-06 15:42:21
-2025-10-06 15:42:21
-2025-10-06 15:42:21
-2025-10-06 15:42:21
-2025-10-06 15:42:21
-2025-10-06 15:42:21
-2025-10-06 15:42:21
-2025-10-06 15:42:21
-2025-10-06 15:42:21
-2025-10-06 15:42:21
-2025-10-06 15:42:21
-2025-10-06 15:42:21
-2025-10-06 15:42:21
-2025-10-06 15:42:21
-2025-10-06 15:42:22
-2025-10-06 15:42:22
-2025-10-06 15:42:22
-2025-10-06 15:42:22
-2025-10-06 15:42:22
-2025-10-06 15:42:22
-2025-10-06 15:42:22
-2025-10-06 15:42:22
-2025-10-06 15:42:22
-2025-10-06 15:42:22
-2025-10-06 15:42:22
-2025-10-06 15:42:22
-2025-10-06 15:42:22
-2025-10-06 15:42:22
-2025-10-06 15:42:22
-2025-10-06 15:42:22
-2025-10-06 15:42:22
-2025-10-06 15:42:22
-2025-10-06 15:42:22
-2025-10-06 15:42:22
-2025-10-06 15:42:22
-2025-10-06 15:42:22
-2025-10-06 15:42:22
-2025-10-06 15:42:22
-2025-10-06 15:42:22
-2025-10-06 15:42:22
-2025-10-06 15:42:22
-2025-10-06 15:42:22
-2025-10-06 15:42:23
-2025-10-06 15:42:23
-2025-10-06 15:42:23
-2025-10-06 15:42:23
-2025-10-06 15:42:23
-2025-10-06 15:42:23
-2025-10-06 15:42:23
-2025-10-06 15:42:23
-2025-10-06 15:42:23
-2025-10-06 15:42:23
-2025-10-06 15:42:23
-2025-10-06 15:42:23
-2025-10-06 15:42:23
-2025-10-06 15:42:23
-2025-10-06 15:42:23
-2025-10-06 15:42:23
-2025-10-06 15:42:23
-2025-10-06 15:42:23
-2025-10-06 15:42:23
-2025-10-06 15:42:23
7.1 KiB2025-10-06 15:36:27
7.1 KiB2025-10-06 15:36:27
7.0 KiB2025-10-06 15:36:27
1011.2 KiB2025-10-06 15:36:26
2.6 KiB2025-10-06 15:36:27
525.5 KiB2025-10-06 15:36:26
3.3 KiB2025-10-06 15:36:27
1.3 MiB2025-10-06 15:42:37
6.7 KiB2025-10-06 15:36:27
605.9 KiB2025-10-06 15:36:27
3.4 MiB2025-10-06 15:42:32
6.7 KiB2025-04-22 17:10:45
605.7 KiB2025-04-22 17:10:45
3.3 MiB2025-04-22 17:20:44
8.1 KiB2025-10-06 15:36:27
524.9 KiB2025-10-06 15:36:27
2.5 MiB2025-10-06 15:42:37
6.7 KiB2025-04-22 17:10:45
616.3 KiB2025-04-22 17:10:45
3.2 MiB2025-04-22 17:20:39
13.4 MiB2025-10-06 15:42:51
241.0 KiB2025-10-06 15:36:26
6.8 KiB2025-10-06 15:36:27
618.2 KiB2025-10-06 15:36:27
3.4 MiB2025-10-06 15:42:27
7.5 KiB2025-10-06 15:36:27
529.5 KiB2025-10-06 15:36:27
3.0 MiB2025-10-06 15:42:24
6.9 KiB2025-08-18 15:37:48
469.2 KiB2025-08-18 15:37:48
3.4 MiB2025-08-18 15:47:52
387.2 KiB2025-10-06 15:36:26
11.7 KiB2025-10-06 15:36:27
6.0 KiB2025-10-06 15:36:27
82.6 MiB2025-10-06 15:43:53
24 B2025-10-06 15:36:26