Package: variants Version: 1.31.0 Command: /home/biocbuild/bbs-3.21-bioc/R/bin/R CMD build --keep-empty-dirs --no-resave-data variants StartedAt: 2025-02-07 13:10:47 -0500 (Fri, 07 Feb 2025) EndedAt: 2025-02-07 13:11:49 -0500 (Fri, 07 Feb 2025) EllapsedTime: 62.3 seconds RetCode: 0 Status: OK PackageFile: variants_1.31.0.tar.gz PackageFileSize: 4.84 MiB