Package: spicyWorkflow Version: 1.7.0 Command: E:\biocbuild\bbs-3.21-bioc\R\bin\R.exe CMD INSTALL spicyWorkflow StartedAt: 2025-02-04 13:01:27 -0500 (Tue, 04 Feb 2025) EndedAt: 2025-02-04 13:02:40 -0500 (Tue, 04 Feb 2025) EllapsedTime: 73.4 seconds RetCode: 0 Status: OK