Package: spicyWorkflow Version: 1.7.0 Command: chmod a+r spicyWorkflow -R && E:\biocbuild\bbs-3.21-bioc\R\bin\R.exe CMD build --keep-empty-dirs --no-resave-data spicyWorkflow StartedAt: 2025-02-07 13:17:12 -0500 (Fri, 07 Feb 2025) EndedAt: 2025-02-07 13:41:30 -0500 (Fri, 07 Feb 2025) EllapsedTime: 1457.8 seconds RetCode: 1 Status: ERROR PackageFile: None PackageFileSize: NA