Package: spicyWorkflow Version: 1.7.0 Command: /home/biocbuild/bbs-3.21-bioc/R/bin/R CMD build --keep-empty-dirs --no-resave-data spicyWorkflow StartedAt: 2025-02-07 13:10:27 -0500 (Fri, 07 Feb 2025) EndedAt: 2025-02-07 13:36:39 -0500 (Fri, 07 Feb 2025) EllapsedTime: 1572.0 seconds RetCode: 1 Status: ERROR PackageFile: None PackageFileSize: NA