Package: simpleSingleCell Version: 1.33.0 Command: /Library/Frameworks/R.framework/Resources/bin/R CMD build --keep-empty-dirs --no-resave-data simpleSingleCell StartedAt: 2025-04-29 13:08:24 -0400 (Tue, 29 Apr 2025) EndedAt: 2025-04-29 13:08:56 -0400 (Tue, 29 Apr 2025) EllapsedTime: 31.8 seconds RetCode: 0 Status: OK PackageFile: simpleSingleCell_1.33.0.tar.gz PackageFileSize: 2.742 MiB