Package: sequencing Version: 1.33.0 Command: /Library/Frameworks/R.framework/Resources/bin/R CMD INSTALL sequencing StartedAt: 2025-07-22 13:00:22 -0400 (Tue, 22 Jul 2025) EndedAt: 2025-07-22 13:00:46 -0400 (Tue, 22 Jul 2025) EllapsedTime: 24.1 seconds RetCode: 0 Status: OK