Package: seqpac Version: 1.7.0 Command: /home/biocbuild/bbs-3.21-bioc/R/bin/R CMD INSTALL seqpac StartedAt: 2025-02-07 13:00:17 -0500 (Fri, 07 Feb 2025) EndedAt: 2025-02-07 13:00:28 -0500 (Fri, 07 Feb 2025) EllapsedTime: 11.2 seconds RetCode: 0 Status: OK