Package: seqpac Version: 1.7.0 Command: /Library/Frameworks/R.framework/Resources/bin/R CMD INSTALL seqpac StartedAt: 2025-02-04 13:00:24 -0500 (Tue, 04 Feb 2025) EndedAt: 2025-02-04 13:00:35 -0500 (Tue, 04 Feb 2025) EllapsedTime: 10.4 seconds RetCode: 0 Status: OK